BEGIN:VCALENDAR
VERSION:2.0
PRODID:-//Mayflower Council | BSA - ECPv5.3.2.1//NONSGML v1.0//EN
CALSCALE:GREGORIAN
METHOD:PUBLISH
X-WR-CALNAME:Mayflower Council | BSA
X-ORIGINAL-URL:https://www.mayflowerbsa.org
X-WR-CALDESC:Events for Mayflower Council | BSA
BEGIN:VTIMEZONE
TZID:America/New_York
BEGIN:DAYLIGHT
TZOFFSETFROM:-0500
TZOFFSETTO:-0400
TZNAME:EDT
DTSTART:20180311T070000
END:DAYLIGHT
BEGIN:STANDARD
TZOFFSETFROM:-0400
TZOFFSETTO:-0500
TZNAME:EST
DTSTART:20181104T060000
END:STANDARD
END:VTIMEZONE
BEGIN:VEVENT
DTSTART;TZID=America/New_York:20181208T090000
DTEND;TZID=America/New_York:20181208T130000
DTSTAMP:20260421T221855
CREATED:20181108T143603Z
LAST-MODIFIED:20181108T145021Z
UID:17285-1544259600-1544274000@www.mayflowerbsa.org
SUMMARY:CPR / AED Training
DESCRIPTION:Registration Deadline: December 1\, 2018 \n  \nThis hands-on course trains youth and adults in the most current cardiopulmonary resuscitation (CPR) techniques and teaches the proper method for using the automated external defibrillator (AED). Students who complete the course will receive a Red Cross certification which is good for 2 years. \n  \n 
URL:https://www.mayflowerbsa.org/legacyevent/17285/
LOCATION:Hull Scout House\, 435 Nantasket Avenue\, Hull\, MA\, 02045\, United States
CATEGORIES:All-Council,Training
ATTACH;FMTTYPE=image/jpeg:https://www.mayflowerbsa.org/wp-content/uploads/cpr-300x300.jpg
ORGANIZER;CN="David%20Barnett":MAILTO:david.barnett16@icloud.com
GEO:42.2798849;-70.8713832
X-APPLE-STRUCTURED-LOCATION;VALUE=URI;X-ADDRESS=Hull Scout House 435 Nantasket Avenue Hull MA 02045 United States;X-APPLE-RADIUS=500;X-TITLE=435 Nantasket Avenue:geo:-70.8713832,42.2798849
END:VEVENT
END:VCALENDAR