BEGIN:VCALENDAR
VERSION:2.0
PRODID:-//Mayflower Council | BSA - ECPv5.3.2.1//NONSGML v1.0//EN
CALSCALE:GREGORIAN
METHOD:PUBLISH
X-WR-CALNAME:Mayflower Council | BSA
X-ORIGINAL-URL:https://www.mayflowerbsa.org
X-WR-CALDESC:Events for Mayflower Council | BSA
BEGIN:VTIMEZONE
TZID:America/New_York
BEGIN:DAYLIGHT
TZOFFSETFROM:-0500
TZOFFSETTO:-0400
TZNAME:EDT
DTSTART:20180311T070000
END:DAYLIGHT
BEGIN:STANDARD
TZOFFSETFROM:-0400
TZOFFSETTO:-0500
TZNAME:EST
DTSTART:20181104T060000
END:STANDARD
END:VTIMEZONE
BEGIN:VEVENT
DTSTART;TZID=America/New_York:20180818T130000
DTEND;TZID=America/New_York:20180818T160000
DTSTAMP:20260421T172742
CREATED:20180709T152153Z
LAST-MODIFIED:20180920T114725Z
UID:14656-1534597200-1534608000@www.mayflowerbsa.org
SUMMARY:2018 Gathering of Eagles
DESCRIPTION:Come celebrate Mayflower Council’s Class of 2017/2018 Eagles Scouts! \n  \nThis will be the first annual Gathering of Mayflower Council Eagle Scouts\, and you won’t want to miss it. \nWe will be having a barbecue lunch and the Class of 2017/2018 Eagle Scouts are free. \n  \nRegistration Deadline – Extended to  August 15\, 2018 \n  \nDress is summer casual\, no uniforms required. \n  \n 
URL:https://www.mayflowerbsa.org/legacyevent/2018-gathering-of-eagles/
LOCATION:Franklin Country Club\, 672 East Central Street\, Franklin\, MA\, 02038\, United States
CATEGORIES:All-Council,Cranberry Harbors District,Powder Keg District,Seven Rivers District,Squanto District
ATTACH;FMTTYPE=image/jpeg:https://www.mayflowerbsa.org/wp-content/uploads/eagle2.jpg
GEO:42.075351;-71.36743
X-APPLE-STRUCTURED-LOCATION;VALUE=URI;X-ADDRESS=Franklin Country Club 672 East Central Street Franklin MA 02038 United States;X-APPLE-RADIUS=500;X-TITLE=672 East Central Street:geo:-71.36743,42.075351
END:VEVENT
END:VCALENDAR