BEGIN:VCALENDAR
VERSION:2.0
PRODID:-//Mayflower Council | BSA - ECPv5.3.2.1//NONSGML v1.0//EN
CALSCALE:GREGORIAN
METHOD:PUBLISH
X-WR-CALNAME:Mayflower Council | BSA
X-ORIGINAL-URL:https://www.mayflowerbsa.org
X-WR-CALDESC:Events for Mayflower Council | BSA
BEGIN:VTIMEZONE
TZID:America/New_York
BEGIN:DAYLIGHT
TZOFFSETFROM:-0500
TZOFFSETTO:-0400
TZNAME:EDT
DTSTART:20200308T070000
END:DAYLIGHT
BEGIN:STANDARD
TZOFFSETFROM:-0400
TZOFFSETTO:-0500
TZNAME:EST
DTSTART:20201101T060000
END:STANDARD
END:VTIMEZONE
BEGIN:VEVENT
DTSTART;TZID=America/New_York:20200129T180000
DTEND;TZID=America/New_York:20200129T213000
DTSTAMP:20260419T190313
CREATED:20190426T164206Z
LAST-MODIFIED:20200129T012638Z
UID:20961-1580320800-1580333400@www.mayflowerbsa.org
SUMMARY:2020 Annual Business Meeting and Recognition
DESCRIPTION:Join us as we recognize the accomplishments of our Silver Beaver and James E. West recipients at the Mayflower Council Annual Recognition Dinner. \n\nThe event promises to be an evening of fun and fellowship\, showcasing some of Mayflower Council’s achievements throughout the year\, and an opportunity to salute you and the many others who have helped our council to be one of New England’s finest! \n\nAttire for the affair is business attire. \nBusiness Meeting will begin at 6:00 pm followed by dinner at 7:00 pm \nSilver Beaver Honorees Selected\nPlease join the Mayflower Council in congratulating this year’s Silver Beaver Honorees. Presentation of the Silver Beaver will be made at the Council Annual Recognition Dinner. We hope you can join us to recognize these outstanding volunteers as they are recognized for their outstanding service to Scouting and their communities. \nGary Bernklow\nRonald Ehnes\nPeter Lane\nMandy Lyons\nDebra Scollins\n  \nJames E. West Award Nomination Form \n  \nRegistration has been extended until January 22nd at noon. \n  \nClick on Flyer to download
URL:https://www.mayflowerbsa.org/legacyevent/2020-annual-business-meeting-and-recognition/
LOCATION:Lake Pearl\, 299 Creek Street\, Wrentham\, MA\, 02093\, United States
CATEGORIES:All-Council
ATTACH;FMTTYPE=image/jpeg:https://www.mayflowerbsa.org/wp-content/uploads/newcouncillogo.jpg
ORGANIZER;CN="Chris%20Thorp":MAILTO:christhorp@verizon.net
GEO:42.065013;-71.3452332
X-APPLE-STRUCTURED-LOCATION;VALUE=URI;X-ADDRESS=Lake Pearl 299 Creek Street Wrentham MA 02093 United States;X-APPLE-RADIUS=500;X-TITLE=299 Creek Street:geo:-71.3452332,42.065013
END:VEVENT
END:VCALENDAR