BEGIN:VCALENDAR
VERSION:2.0
PRODID:-//Mayflower Council | BSA - ECPv5.3.2.1//NONSGML v1.0//EN
CALSCALE:GREGORIAN
METHOD:PUBLISH
X-WR-CALNAME:Mayflower Council | BSA
X-ORIGINAL-URL:https://www.mayflowerbsa.org
X-WR-CALDESC:Events for Mayflower Council | BSA
BEGIN:VTIMEZONE
TZID:America/New_York
BEGIN:DAYLIGHT
TZOFFSETFROM:-0500
TZOFFSETTO:-0400
TZNAME:EDT
DTSTART:20200308T070000
END:DAYLIGHT
BEGIN:STANDARD
TZOFFSETFROM:-0400
TZOFFSETTO:-0500
TZNAME:EST
DTSTART:20201101T060000
END:STANDARD
END:VTIMEZONE
BEGIN:VEVENT
DTSTART;TZID=America/New_York:20200328T180000
DTEND;TZID=America/New_York:20200328T220000
DTSTAMP:20260420T221232
CREATED:20190326T145554Z
LAST-MODIFIED:20200313T173656Z
UID:20409-1585418400-1585432800@www.mayflowerbsa.org
SUMMARY:Cranberry Harbors District Dinner
DESCRIPTION:In an abundance of caution\, we will be canceling the Cranberry Harbors District Annual Recognition Dinner\, that is scheduled for March 28 because this event brings a large number of Scouters together. We will be issuing full refunds to everyone by the end of the month and have begun planning a bigger\, better district dinner for 2021.\n.\nAll are welcome to come join us recognize the volunteers of Cranberry Harbors District who have shined in their Pack\, Troop\, Crew or District. The following awards will be presented: \nDistrict Award of Merit \nUnit Leader Award of Merit \nScoutmaster of the Year \nCubmaster of the Year \nVenture Leader of the Year \nUnit Commissioner of the Year \nSpark Plug Awards \n  \nIf you know someone deserving of one of these awards\, please fill out the nomination form\, and forward forms to awards@mayflowerbsa.org by February 15\, 2020. \nDistrict Award of Merit Nomination\nDistrict Awards Nomination \nRegistration ends on March 15\, 2020 \nEvent Flyer
URL:https://www.mayflowerbsa.org/legacyevent/2020-cranberry-harbors-district-dinner/
LOCATION:Monponsett Inn\, 550 Monponsett Street\, Halifax\, MA\, 02338\, United States
CATEGORIES:All-Council,Cranberry Harbors District
ATTACH;FMTTYPE=image/png:https://www.mayflowerbsa.org/wp-content/uploads/CH-District-Dinner.png
ORGANIZER;CN="Rick%20Robbins":MAILTO:rwrtwo@comcast.net
GEO:42.009336;-70.8434945
X-APPLE-STRUCTURED-LOCATION;VALUE=URI;X-ADDRESS=Monponsett Inn 550 Monponsett Street Halifax MA 02338 United States;X-APPLE-RADIUS=500;X-TITLE=550 Monponsett Street:geo:-70.8434945,42.009336
END:VEVENT
END:VCALENDAR