BEGIN:VCALENDAR
VERSION:2.0
PRODID:-//Mayflower Council | BSA - ECPv5.3.2.1//NONSGML v1.0//EN
CALSCALE:GREGORIAN
METHOD:PUBLISH
X-WR-CALNAME:Mayflower Council | BSA
X-ORIGINAL-URL:https://www.mayflowerbsa.org
X-WR-CALDESC:Events for Mayflower Council | BSA
BEGIN:VTIMEZONE
TZID:America/New_York
BEGIN:DAYLIGHT
TZOFFSETFROM:-0500
TZOFFSETTO:-0400
TZNAME:EDT
DTSTART:20200308T070000
END:DAYLIGHT
BEGIN:STANDARD
TZOFFSETFROM:-0400
TZOFFSETTO:-0500
TZNAME:EST
DTSTART:20201101T060000
END:STANDARD
END:VTIMEZONE
BEGIN:VEVENT
DTSTART;TZID=America/New_York:20201119T190000
DTEND;TZID=America/New_York:20201119T210000
DTSTAMP:20260421T172230
CREATED:20201022T180144Z
LAST-MODIFIED:20201023T133001Z
UID:28345-1605812400-1605819600@www.mayflowerbsa.org
SUMMARY:2021 Philmont Information Session
DESCRIPTION:Join us to learn all about Mayflower Council’s Philmont Trek Expedition\, July 25 through August 8\, 2021. Philmont Scout Ranch is the BSA’s premier High Adventure Base. It covers over 200 square miles of Sangre De Christo range of the Rocky Mountains in Northern New Mexico. Scouts will hike at least 50 miles over the course of 12 days and will build skills\, self confidence\, and explore new levels of teamwork. \nThis information session will be aimed at giving Scouts BSA\, Venturers and parents interested in the 2021 Philmont expedition the information they need to decide if joining the 2021 Philmont Council Contingent is right for them. \nYou must register to receive the zoom link information. \nTo apply and make a deposit as a member of the Philmont Crew\, go to: Philmont 2021 High Adventure Crew \nRegister Here
URL:https://www.mayflowerbsa.org/legacyevent/2021-philmont-information-session/
CATEGORIES:All-Council,High Adventure
ATTACH;FMTTYPE=image/gif:https://www.mayflowerbsa.org/wp-content/uploads/philmont2.gif
ORGANIZER;CN="Mark%20Smith":MAILTO:mark.c.smith6@gmail.com
END:VEVENT
END:VCALENDAR