BEGIN:VCALENDAR
VERSION:2.0
PRODID:-//Mayflower Council | BSA - ECPv5.3.2.1//NONSGML v1.0//EN
CALSCALE:GREGORIAN
METHOD:PUBLISH
X-WR-CALNAME:Mayflower Council | BSA
X-ORIGINAL-URL:https://www.mayflowerbsa.org
X-WR-CALDESC:Events for Mayflower Council | BSA
BEGIN:VTIMEZONE
TZID:America/New_York
BEGIN:DAYLIGHT
TZOFFSETFROM:-0500
TZOFFSETTO:-0400
TZNAME:EDT
DTSTART:20190310T070000
END:DAYLIGHT
BEGIN:STANDARD
TZOFFSETFROM:-0400
TZOFFSETTO:-0500
TZNAME:EST
DTSTART:20191103T060000
END:STANDARD
END:VTIMEZONE
BEGIN:VEVENT
DTSTART;TZID=America/New_York:20191012T070000
DTEND;TZID=America/New_York:20191012T190000
DTSTAMP:20260422T224830
CREATED:20181218T140644Z
LAST-MODIFIED:20191011T131521Z
UID:17996-1570863600-1570906800@www.mayflowerbsa.org
SUMMARY:Camp Resolute 100th Anniversary Camporee
DESCRIPTION:Click here for the Camporee Update Regarding The Eastern Equine Encephalitis (EEE) virus \nCamp Resolute 100th Anniversary Information Packet. \nWhat was Camp Resolute like 100 years ago? \nEver wonder what it was like to camp at Resolute 100 years ago?  Did you know in 1925 you could attend camp for $6 and were guaranteed enough food that you’d gain 4 lbs?  During the war your camp fee included a bag of sugar!  A camp truck used to pick campers up in Marlborough and Hudson having taken a train from other locations. \nAnd what kinds of activities did scouts do in camp?  Scoutcraft\, aquatics\, and more!  Come join us for this 100th Anniversary Camporee and find out what early life at Camp Resolute was like.  We will have games that represent 5 different eras of camp life\, Pre WWII\, Post WWII\, 60s-70s\, 80s-90s\, 2000 – Present.  We will include historical displays and so much more! \n\nCampfire Program\nActivities\n\nHistoric Scavenger Hunt\n\n\n Camp Games from All Era’\nWoodsman’s Meet\nGreen Gizmo\nOperation “BRRRRRR”\nVintage Uniform Contest\nResolute Trivia Contest… And more!\n\n\nTour the Camp\n\n  \nCamporee will be by unit only and Webelo’s will need to be signed up by their host troops. \nThis event is being hosted by Troop 1 Stow. \n  \nRegistration deadline is:  October 4\, 2019 \n  \nSite Deposit of $30.00 is required.
URL:https://www.mayflowerbsa.org/legacyevent/camp-resolute-100th-anniversary-camporee/
LOCATION:Camp Resolute\, 75 Hudson Road\, Bolton\, MA\, 01740\, United States
CATEGORIES:All-Council,Camp Resolute,Camp Squanto,Cranberry Harbors District,Headwaters District,Metacomet District,Post Road District,Sachem District
ATTACH;FMTTYPE=image/jpeg:https://www.mayflowerbsa.org/wp-content/uploads/39261739_10155487188450825_2510487751212662784_o.jpg
ORGANIZER;CN="Gary%20Bernklow":MAILTO:ceo@tosalumni.org
GEO:42.4247398;-71.5862967
X-APPLE-STRUCTURED-LOCATION;VALUE=URI;X-ADDRESS=Camp Resolute 75 Hudson Road Bolton MA 01740 United States;X-APPLE-RADIUS=500;X-TITLE=75 Hudson Road:geo:-71.5862967,42.4247398
END:VEVENT
END:VCALENDAR