BEGIN:VCALENDAR
VERSION:2.0
PRODID:-//Mayflower Council | BSA - ECPv5.3.2.1//NONSGML v1.0//EN
CALSCALE:GREGORIAN
METHOD:PUBLISH
X-WR-CALNAME:Mayflower Council | BSA
X-ORIGINAL-URL:https://www.mayflowerbsa.org
X-WR-CALDESC:Events for Mayflower Council | BSA
BEGIN:VTIMEZONE
TZID:America/New_York
BEGIN:DAYLIGHT
TZOFFSETFROM:-0500
TZOFFSETTO:-0400
TZNAME:EDT
DTSTART:20180311T070000
END:DAYLIGHT
BEGIN:STANDARD
TZOFFSETFROM:-0400
TZOFFSETTO:-0500
TZNAME:EST
DTSTART:20181104T060000
END:STANDARD
END:VTIMEZONE
BEGIN:VEVENT
DTSTART;TZID=America/New_York:20180805T140000
DTEND;TZID=America/New_York:20180810T150000
DTSTAMP:20260422T023354
CREATED:20180221T200112Z
LAST-MODIFIED:20180712T150953Z
UID:13303-1533477600-1533913200@www.mayflowerbsa.org
SUMMARY:Trail To Eagle Camp (aka Eagle Week)
DESCRIPTION:Want more Eagle badges? Attend Trail to Eagle Camp (aka Eagle Week)!   We offer 14 Eagle required badges.  Many of our counselors are adult volunteers with specific backgrounds and interests in their respective merit badges. \nYou can earn up to 5 Eagle required merit badges during this week.  We also offer a couple of non-Eagle badges and provide some fun time during the afternoon including shooting sports\, aquatic activities and climbing. \nThe program requires a lot of work including homework but the hard work is all worth it when you earn these all important badges. \nTrail to Eagle week is a resident camp program meaning you will be staying overnight and camping with your fellow scouts.   Camp Resolute provides a perfect setting for this program.  Both the facilities and the staff are first rate.\nFor more detailed information please check out the Scout and Parent Guide and the Trail To Eagle Code of Conduct. \nRegistration Deadline has been extended:  July 15\, 2018 \nPre-Requisites:  Must be 1st class and 13 years old by June 1\, 2018 \n2018 Merit Badge Schedule and Pre-camp Requirements
URL:https://www.mayflowerbsa.org/legacyevent/camp-resolute-trail-to-eagle-camp/
LOCATION:Camp Resolute\, 75 Hudson Road\, Bolton\, MA\, 01740\, United States
CATEGORIES:All-Council,Camp Resolute,Camp Squanto
ATTACH;FMTTYPE=image/jpeg:https://www.mayflowerbsa.org/wp-content/uploads/eagle2.jpg
ORGANIZER;CN="Ed%20Behn":MAILTO:ed@edbehn.com
GEO:42.4247398;-71.5862967
X-APPLE-STRUCTURED-LOCATION;VALUE=URI;X-ADDRESS=Camp Resolute 75 Hudson Road Bolton MA 01740 United States;X-APPLE-RADIUS=500;X-TITLE=75 Hudson Road:geo:-71.5862967,42.4247398
END:VEVENT
END:VCALENDAR