BEGIN:VCALENDAR
VERSION:2.0
PRODID:-//Mayflower Council | BSA - ECPv5.3.2.1//NONSGML v1.0//EN
CALSCALE:GREGORIAN
METHOD:PUBLISH
X-WR-CALNAME:Mayflower Council | BSA
X-ORIGINAL-URL:https://www.mayflowerbsa.org
X-WR-CALDESC:Events for Mayflower Council | BSA
BEGIN:VTIMEZONE
TZID:America/New_York
BEGIN:DAYLIGHT
TZOFFSETFROM:-0500
TZOFFSETTO:-0400
TZNAME:EDT
DTSTART:20180311T070000
END:DAYLIGHT
BEGIN:STANDARD
TZOFFSETFROM:-0400
TZOFFSETTO:-0500
TZNAME:EST
DTSTART:20181104T060000
END:STANDARD
END:VTIMEZONE
BEGIN:VEVENT
DTSTART;TZID=America/New_York:20181020T090000
DTEND;TZID=America/New_York:20181020T130000
DTSTAMP:20260421T170642
CREATED:20180905T161145Z
LAST-MODIFIED:20180906T160801Z
UID:15760-1540026000-1540040400@www.mayflowerbsa.org
SUMMARY:Campmaster Training
DESCRIPTION:Come to a Campmaster training to see what we’re all about!  The Campmaster Corps is a group of scouters who serve at council weekend camps whenever troops\, webelo dens\, crew or posts are using any part of the property.  They check units in on their arrival at camp and render commissioner-type service to the units while they are our guests in camp. \n  \nThis training will focus on Nobscot Scout Reservation and Camp Resolute.  The event will start promptly at 9am\, with lunch to be provided.  A quick tour for those who need it will be offered after lunch. \n  \nLocation:  Henderson Lodge \nRegistration Deadline:  10/15/18
URL:https://www.mayflowerbsa.org/legacyevent/campmaster-training-3/
LOCATION:Nobscot Scout Reservation\, 1 Nobscot Road\, Sudbury\, MA\, 01776\, United States
CATEGORIES:All-Council,Camp Resolute,Nobscot Scout Reservation,Training
ATTACH;FMTTYPE=image/jpeg:https://www.mayflowerbsa.org/wp-content/uploads/placeholderimage5.jpg
ORGANIZER;CN="Tom%20Bednarz":MAILTO:tom.bednarz@gmail.com
GEO:42.3476721;-71.438526
X-APPLE-STRUCTURED-LOCATION;VALUE=URI;X-ADDRESS=Nobscot Scout Reservation 1 Nobscot Road Sudbury MA 01776 United States;X-APPLE-RADIUS=500;X-TITLE=1 Nobscot Road:geo:-71.438526,42.3476721
END:VEVENT
END:VCALENDAR