BEGIN:VCALENDAR
VERSION:2.0
PRODID:-//Mayflower Council | BSA - ECPv5.3.2.1//NONSGML v1.0//EN
CALSCALE:GREGORIAN
METHOD:PUBLISH
X-WR-CALNAME:Mayflower Council | BSA
X-ORIGINAL-URL:https://www.mayflowerbsa.org
X-WR-CALDESC:Events for Mayflower Council | BSA
BEGIN:VTIMEZONE
TZID:America/New_York
BEGIN:DAYLIGHT
TZOFFSETFROM:-0500
TZOFFSETTO:-0400
TZNAME:EDT
DTSTART:20190310T070000
END:DAYLIGHT
BEGIN:STANDARD
TZOFFSETFROM:-0400
TZOFFSETTO:-0500
TZNAME:EST
DTSTART:20191103T060000
END:STANDARD
END:VTIMEZONE
BEGIN:VEVENT
DTSTART;TZID=America/New_York:20191005T090000
DTEND;TZID=America/New_York:20191005T100000
DTSTAMP:20260423T030702
CREATED:20190925T213359Z
LAST-MODIFIED:20190925T213359Z
UID:22275-1570266000-1570269600@www.mayflowerbsa.org
SUMMARY:Campmaster Training
DESCRIPTION:Join us at 9:00 am on Saturday\, October 5 and learn what it takes to become a Campmaster and how to have a successful weekend. Campmasters keep our three camps active between September and early June. This Campmaster overview will be held at at Nobscot Scout Reservation. \nQuestions? Please contact: \nTom Bednarz (508) 733-7613 – tom.bednarz@gmail.com    or \nTom McClintock (781) 223-7835 – tmcclintock@meboston.com.
URL:https://www.mayflowerbsa.org/legacyevent/campmaster-training-7/
LOCATION:Nobscot Scout Reservation\, 1 Nobscot Road\, Sudbury\, MA\, 01776\, United States
CATEGORIES:All-Council,Nobscot Scout Reservation
ATTACH;FMTTYPE=image/jpeg:https://www.mayflowerbsa.org/wp-content/uploads/Nobscot-1.jpg
ORGANIZER;CN="Tom%20McClintock":MAILTO:tmcclint@bellatlantic.net
GEO:42.3476721;-71.438526
X-APPLE-STRUCTURED-LOCATION;VALUE=URI;X-ADDRESS=Nobscot Scout Reservation 1 Nobscot Road Sudbury MA 01776 United States;X-APPLE-RADIUS=500;X-TITLE=1 Nobscot Road:geo:-71.438526,42.3476721
END:VEVENT
END:VCALENDAR