BEGIN:VCALENDAR
VERSION:2.0
PRODID:-//Mayflower Council | BSA - ECPv5.3.2.1//NONSGML v1.0//EN
CALSCALE:GREGORIAN
METHOD:PUBLISH
X-WR-CALNAME:Mayflower Council | BSA
X-ORIGINAL-URL:https://www.mayflowerbsa.org
X-WR-CALDESC:Events for Mayflower Council | BSA
BEGIN:VTIMEZONE
TZID:America/New_York
BEGIN:DAYLIGHT
TZOFFSETFROM:-0500
TZOFFSETTO:-0400
TZNAME:EDT
DTSTART:20200308T070000
END:DAYLIGHT
BEGIN:STANDARD
TZOFFSETFROM:-0400
TZOFFSETTO:-0500
TZNAME:EST
DTSTART:20201101T060000
END:STANDARD
END:VTIMEZONE
BEGIN:VEVENT
DTSTART;TZID=America/New_York:20200208T090000
DTEND;TZID=America/New_York:20200208T123000
DTSTAMP:20260419T122924
CREATED:20190626T130038Z
LAST-MODIFIED:20190718T164330Z
UID:21309-1581152400-1581165000@www.mayflowerbsa.org
SUMMARY:CPR/AED - Canton
DESCRIPTION:This hands-on course trains youth and adults in the most current cardiopulmonary resuscitation (CPR) techniques and teaches the proper method for using the automated external defibrillator (AED). Students who complete the course will receive a Red Cross certification which is good for 2 years. \nPre-registration is required and registration closes one week prior to course. No walk-ins \n  \nNon-BSA members  = $60.00
URL:https://www.mayflowerbsa.org/legacyevent/cpr-aed-canton-2020-02-08/
LOCATION:Canton Service Center\, 2438 Washington Street\, Canton\, MA\, 02021\, United States
CATEGORIES:All-Council,Training
ATTACH;FMTTYPE=image/jpeg:https://www.mayflowerbsa.org/wp-content/uploads/cpr-300x300.jpg
ORGANIZER;CN="Dave%20Barnett":MAILTO:david.barnett16@icloud.com
GEO:42.1989563;-71.1195763
X-APPLE-STRUCTURED-LOCATION;VALUE=URI;X-ADDRESS=Canton Service Center 2438 Washington Street Canton MA 02021 United States;X-APPLE-RADIUS=500;X-TITLE=2438 Washington Street:geo:-71.1195763,42.1989563
END:VEVENT
END:VCALENDAR