BEGIN:VCALENDAR
VERSION:2.0
PRODID:-//Mayflower Council | BSA - ECPv5.3.2.1//NONSGML v1.0//EN
CALSCALE:GREGORIAN
METHOD:PUBLISH
X-WR-CALNAME:Mayflower Council | BSA
X-ORIGINAL-URL:https://www.mayflowerbsa.org
X-WR-CALDESC:Events for Mayflower Council | BSA
BEGIN:VTIMEZONE
TZID:America/New_York
BEGIN:DAYLIGHT
TZOFFSETFROM:-0500
TZOFFSETTO:-0400
TZNAME:EDT
DTSTART:20180311T070000
END:DAYLIGHT
BEGIN:STANDARD
TZOFFSETFROM:-0400
TZOFFSETTO:-0500
TZNAME:EST
DTSTART:20181104T060000
END:STANDARD
END:VTIMEZONE
BEGIN:VEVENT
DTSTART;TZID=America/New_York:20180612T180000
DTEND;TZID=America/New_York:20180612T213000
DTSTAMP:20260421T183133
CREATED:20180502T141117Z
LAST-MODIFIED:20180502T141147Z
UID:14300-1528826400-1528839000@www.mayflowerbsa.org
SUMMARY:CPR/AED Red Cross
DESCRIPTION:This hands-on course trains youth and adult in the most current Cardiopulmonary Resuscitation (CPR) techniques and teaches the proper method for using the Automated External Defibrillator (AED).  Students who complete the course will receive a Red Cross certification which is good for 2 years. \nFees: Non BSA: $60 \nRegistration Deadline: 6/5/18 \nLate registration at the discretion of the course director. \nLocation:  White Lodge
URL:https://www.mayflowerbsa.org/legacyevent/cpr-aed-red-cross/
LOCATION:Nobscot Scout Reservation\, 1 Nobscot Road\, Sudbury\, MA\, 01776\, United States
CATEGORIES:All-Council,Training
ATTACH;FMTTYPE=image/jpeg:https://www.mayflowerbsa.org/wp-content/uploads/cpr-300x300.jpg
ORGANIZER;CN="George%20Ecker":MAILTO:mushmahatma@verizon.net
GEO:42.3476721;-71.438526
X-APPLE-STRUCTURED-LOCATION;VALUE=URI;X-ADDRESS=Nobscot Scout Reservation 1 Nobscot Road Sudbury MA 01776 United States;X-APPLE-RADIUS=500;X-TITLE=1 Nobscot Road:geo:-71.438526,42.3476721
END:VEVENT
END:VCALENDAR