BEGIN:VCALENDAR
VERSION:2.0
PRODID:-//Mayflower Council | BSA - ECPv5.3.2.1//NONSGML v1.0//EN
CALSCALE:GREGORIAN
METHOD:PUBLISH
X-WR-CALNAME:Mayflower Council | BSA
X-ORIGINAL-URL:https://www.mayflowerbsa.org
X-WR-CALDESC:Events for Mayflower Council | BSA
BEGIN:VTIMEZONE
TZID:America/New_York
BEGIN:DAYLIGHT
TZOFFSETFROM:-0500
TZOFFSETTO:-0400
TZNAME:EDT
DTSTART:20190310T070000
END:DAYLIGHT
BEGIN:STANDARD
TZOFFSETFROM:-0400
TZOFFSETTO:-0500
TZNAME:EST
DTSTART:20191103T060000
END:STANDARD
END:VTIMEZONE
BEGIN:VEVENT
DTSTART;TZID=America/New_York:20190910T190000
DTEND;TZID=America/New_York:20190910T203000
DTSTAMP:20260421T101203
CREATED:20190319T152904Z
LAST-MODIFIED:20200820T210238Z
UID:19940-1568142000-1568147400@www.mayflowerbsa.org
SUMMARY:Cranberry Harbors District Commissioners
DESCRIPTION:In an abundance of caution\, this meeting will be held virtually. Further information from your district and directions on how to participate will be communicated shortly.\n.\n  \nCranberry Harbors District Commissioners meet on the 2nd Tuesday of each Month from September thru May.
URL:https://www.mayflowerbsa.org/legacyevent/cranberry-harbors-district-commissioners/2019-09-10/
CATEGORIES:All-Council,Cranberry Harbors District
ATTACH;FMTTYPE=image/jpeg:https://www.mayflowerbsa.org/wp-content/uploads/placeholderimage5.jpg
ORGANIZER;CN="Debbie%20Scollins":MAILTO:dscollinschbsa@gmail.com
END:VEVENT
END:VCALENDAR