BEGIN:VCALENDAR
VERSION:2.0
PRODID:-//Mayflower Council | BSA - ECPv5.3.2.1//NONSGML v1.0//EN
CALSCALE:GREGORIAN
METHOD:PUBLISH
X-WR-CALNAME:Mayflower Council | BSA
X-ORIGINAL-URL:https://www.mayflowerbsa.org
X-WR-CALDESC:Events for Mayflower Council | BSA
BEGIN:VTIMEZONE
TZID:America/New_York
BEGIN:DAYLIGHT
TZOFFSETFROM:-0500
TZOFFSETTO:-0400
TZNAME:EDT
DTSTART:20200308T070000
END:DAYLIGHT
BEGIN:STANDARD
TZOFFSETFROM:-0400
TZOFFSETTO:-0500
TZNAME:EST
DTSTART:20201101T060000
END:STANDARD
END:VTIMEZONE
BEGIN:VEVENT
DTSTART;TZID=America/New_York:20200408T190000
DTEND;TZID=America/New_York:20200408T203000
DTSTAMP:20260421T131019
CREATED:20200331T130727Z
LAST-MODIFIED:20200331T130727Z
UID:24681-1586372400-1586377800@www.mayflowerbsa.org
SUMMARY:Cranberry Harbors District Committee
DESCRIPTION:
URL:https://www.mayflowerbsa.org/legacyevent/cranberry-harbors-district-committee-2/
CATEGORIES:All-Council,Cranberry Harbors District
ATTACH;FMTTYPE=image/jpeg:https://www.mayflowerbsa.org/wp-content/uploads/placeholderimage5.jpg
ORGANIZER;CN="Joe%20Livingston":MAILTO:Joe@mayflowerbsa.org
END:VEVENT
END:VCALENDAR