BEGIN:VCALENDAR
VERSION:2.0
PRODID:-//Mayflower Council | BSA - ECPv5.3.2.1//NONSGML v1.0//EN
CALSCALE:GREGORIAN
METHOD:PUBLISH
X-WR-CALNAME:Mayflower Council | BSA
X-ORIGINAL-URL:https://www.mayflowerbsa.org
X-WR-CALDESC:Events for Mayflower Council | BSA
BEGIN:VTIMEZONE
TZID:America/Halifax
BEGIN:DAYLIGHT
TZOFFSETFROM:-0400
TZOFFSETTO:-0300
TZNAME:ADT
DTSTART:20180311T060000
END:DAYLIGHT
BEGIN:STANDARD
TZOFFSETFROM:-0300
TZOFFSETTO:-0400
TZNAME:AST
DTSTART:20181104T050000
END:STANDARD
END:VTIMEZONE
BEGIN:VEVENT
DTSTART;TZID=America/Halifax:20180606T190000
DTEND;TZID=America/Halifax:20180606T203000
DTSTAMP:20260422T020223
CREATED:20171213T173410Z
LAST-MODIFIED:20180920T114726Z
UID:9178-1528311600-1528317000@www.mayflowerbsa.org
SUMMARY:Cranberry Harbors District Roundtable
DESCRIPTION:There is no June Roundtable.
URL:https://www.mayflowerbsa.org/legacyevent/cranberry-harbors-district-roundtable-2-2018-06-06/
LOCATION:Furnace Brook Middle School\, 500 Furnace Street\, Marshfield\, MA\, United States
CATEGORIES:All-Council,Cranberry Harbors District,Roundtable
ATTACH;FMTTYPE=image/jpeg:https://www.mayflowerbsa.org/wp-content/uploads/placeholderimage5.jpg
ORGANIZER;CN="Jack%20Colamaria":MAILTO:jack.colamaria@scouting.org
GEO:42.1067923;-70.738044
X-APPLE-STRUCTURED-LOCATION;VALUE=URI;X-ADDRESS=Furnace Brook Middle School 500 Furnace Street Marshfield MA United States;X-APPLE-RADIUS=500;X-TITLE=500 Furnace Street:geo:-70.738044,42.1067923
END:VEVENT
END:VCALENDAR