BEGIN:VCALENDAR
VERSION:2.0
PRODID:-//Mayflower Council | BSA - ECPv5.3.2.1//NONSGML v1.0//EN
CALSCALE:GREGORIAN
METHOD:PUBLISH
X-WR-CALNAME:Mayflower Council | BSA
X-ORIGINAL-URL:https://www.mayflowerbsa.org
X-WR-CALDESC:Events for Mayflower Council | BSA
BEGIN:VTIMEZONE
TZID:America/New_York
BEGIN:DAYLIGHT
TZOFFSETFROM:-0500
TZOFFSETTO:-0400
TZNAME:EDT
DTSTART:20200308T070000
END:DAYLIGHT
BEGIN:STANDARD
TZOFFSETFROM:-0400
TZOFFSETTO:-0500
TZNAME:EST
DTSTART:20201101T060000
END:STANDARD
END:VTIMEZONE
BEGIN:VEVENT
DTSTART;TZID=America/New_York:20200401T190000
DTEND;TZID=America/New_York:20200401T203000
DTSTAMP:20260421T025435
CREATED:20180821T170905Z
LAST-MODIFIED:20200327T165359Z
UID:19663-1585767600-1585773000@www.mayflowerbsa.org
SUMMARY:Cranberry Harbors District Roundtable
DESCRIPTION:In an abundance of caution\, the Cranberry Harbors District Roundtable meeting will be held virtually. Further information from your district and directions on how to participate will be communicated shortly.\n\n.\nWelcome to the Cranberry Harbors District Roundtable.  This will be a monthly meeting of peers for discussion and exchange of views and ideas.  Your District Executive will be there to answer any questions you may have and provide you with important information on upcoming events. \nThese meeting will be held the first Wednesday of every month beginning in September thru June (unless otherwise noted). \nCranberry Harbors District Flyers
URL:https://www.mayflowerbsa.org/legacyevent/cranberry-harbors-round-table-2018-10-03-2020-04-01/
LOCATION:Furnace Brook Middle School\, 500 Furnace Street\, Marshfield\, MA\, United States
CATEGORIES:All-Council,Cranberry Harbors District
ATTACH;FMTTYPE=image/jpeg:https://www.mayflowerbsa.org/wp-content/uploads/med_roundtable-inline.jpg
ORGANIZER;CN="Jack%20Foley":MAILTO:jack@scituate.net
GEO:42.1067923;-70.738044
X-APPLE-STRUCTURED-LOCATION;VALUE=URI;X-ADDRESS=Furnace Brook Middle School 500 Furnace Street Marshfield MA United States;X-APPLE-RADIUS=500;X-TITLE=500 Furnace Street:geo:-70.738044,42.1067923
END:VEVENT
END:VCALENDAR