BEGIN:VCALENDAR
VERSION:2.0
PRODID:-//Mayflower Council | BSA - ECPv5.3.2.1//NONSGML v1.0//EN
CALSCALE:GREGORIAN
METHOD:PUBLISH
X-WR-CALNAME:Mayflower Council | BSA
X-ORIGINAL-URL:https://www.mayflowerbsa.org
X-WR-CALDESC:Events for Mayflower Council | BSA
BEGIN:VTIMEZONE
TZID:America/New_York
BEGIN:DAYLIGHT
TZOFFSETFROM:-0500
TZOFFSETTO:-0400
TZNAME:EDT
DTSTART:20200308T070000
END:DAYLIGHT
BEGIN:STANDARD
TZOFFSETFROM:-0400
TZOFFSETTO:-0500
TZNAME:EST
DTSTART:20201101T060000
END:STANDARD
END:VTIMEZONE
BEGIN:VEVENT
DTSTART;TZID=America/New_York:20201213T190000
DTEND;TZID=America/New_York:20201213T210000
DTSTAMP:20260422T002133
CREATED:20201130T152707Z
LAST-MODIFIED:20201203T161127Z
UID:29564-1607886000-1607893200@www.mayflowerbsa.org
SUMMARY:Cub Scout Leader Position-Specific Training
DESCRIPTION:BASIC TRAINING FOR CUB SCOUT LEADERS\nAre you a new Cub Scout leader? Or a returning leader looking for new ideas and resources to help you run a great program? Join us for our live webcast version of Cub Scout Leader Position-Specific Training in December! \nThis is the same content that’s available through BSA online training at my.scouting.org\, but our version will feature real live trainers who can answer questions\, share tips\, and create opportunities for discussion. We’ll cover specific roles and resources for Den Leaders\, Cubmasters/Assistants\, and Pack Committee Members. \nThe full training covers four hours of material. We’ve split it into two evenings: Session 1: December 13 and Session 2: will to be scheduled at a later date. \nRegister Here
URL:https://www.mayflowerbsa.org/legacyevent/cub-scout-leader-position-specific-training-3/
CATEGORIES:All-Council,Newsletter,Training
ATTACH;FMTTYPE=image/jpeg:https://www.mayflowerbsa.org/wp-content/uploads/trainingupdate.jpg
ORGANIZER;CN="Chris%20Lamie":MAILTO:Chris.lamie@gmail.com
END:VEVENT
END:VCALENDAR