BEGIN:VCALENDAR
VERSION:2.0
PRODID:-//Mayflower Council | BSA - ECPv5.3.2.1//NONSGML v1.0//EN
CALSCALE:GREGORIAN
METHOD:PUBLISH
X-WR-CALNAME:Mayflower Council | BSA
X-ORIGINAL-URL:https://www.mayflowerbsa.org
X-WR-CALDESC:Events for Mayflower Council | BSA
BEGIN:VTIMEZONE
TZID:America/New_York
BEGIN:DAYLIGHT
TZOFFSETFROM:-0500
TZOFFSETTO:-0400
TZNAME:EDT
DTSTART:20180311T070000
END:DAYLIGHT
BEGIN:STANDARD
TZOFFSETFROM:-0400
TZOFFSETTO:-0500
TZNAME:EST
DTSTART:20181104T060000
END:STANDARD
END:VTIMEZONE
BEGIN:VEVENT
DTSTART;TZID=America/New_York:20180929T081500
DTEND;TZID=America/New_York:20180929T150000
DTSTAMP:20260421T111557
CREATED:20180928T194005Z
LAST-MODIFIED:20180925T121858Z
UID:15064-1538208900-1538233200@www.mayflowerbsa.org
SUMMARY:Cub Scout Training Festival
DESCRIPTION:All Cub Scout leaders are invited to join us for a fun day filled with: \n\nIn-person position-specific training and youth protection training (YPT)\nWorkshops on many program topics such as the Lion program\, crafts\, skits and songs\, ceremonies\, working with youth with disabilities\, and more.\nLeader guides for sale\, registration materials\, and other resources to save you a trip to the council office or the Scout store.\nOutdoor cooking demos and a delicious lunch.\nFun activities for your Cub-age youth.\nA chance to meet fellow leaders and get resources to start the new year off strong!\n\nA schedule of specific training sessions is available below.  Drop in whenever you can!  We will offer the most popular sessions multiple times. \nLunch is $5.00; the training is free. \n \nPrintable Schedule
URL:https://www.mayflowerbsa.org/legacyevent/cub-scout-training-festival-2/
LOCATION:First Congregational Church Norwood\, 100 Winter Street\, Norwood\, MA\, 02062\, United States
CATEGORIES:All-Council,Training
ATTACH;FMTTYPE=image/png:https://www.mayflowerbsa.org/wp-content/uploads/Logo_CubScoutWhite.png
ORGANIZER;CN="Chris%20Lamie":MAILTO:Chris.lamie@gmail.com
GEO:42.1911569;-71.206046
X-APPLE-STRUCTURED-LOCATION;VALUE=URI;X-ADDRESS=First Congregational Church Norwood 100 Winter Street Norwood MA 02062 United States;X-APPLE-RADIUS=500;X-TITLE=100 Winter Street:geo:-71.206046,42.1911569
END:VEVENT
END:VCALENDAR