BEGIN:VCALENDAR
VERSION:2.0
PRODID:-//Mayflower Council | BSA - ECPv5.3.2.1//NONSGML v1.0//EN
CALSCALE:GREGORIAN
METHOD:PUBLISH
X-WR-CALNAME:Mayflower Council | BSA
X-ORIGINAL-URL:https://www.mayflowerbsa.org
X-WR-CALDESC:Events for Mayflower Council | BSA
BEGIN:VTIMEZONE
TZID:America/New_York
BEGIN:DAYLIGHT
TZOFFSETFROM:-0500
TZOFFSETTO:-0400
TZNAME:EDT
DTSTART:20180311T070000
END:DAYLIGHT
BEGIN:STANDARD
TZOFFSETFROM:-0400
TZOFFSETTO:-0500
TZNAME:EST
DTSTART:20181104T060000
END:STANDARD
END:VTIMEZONE
BEGIN:VEVENT
DTSTART;TZID=America/New_York:20181027T081500
DTEND;TZID=America/New_York:20181027T150000
DTSTAMP:20260421T112116
CREATED:20180821T185555Z
LAST-MODIFIED:20181027T005401Z
UID:15067-1540628100-1540652400@www.mayflowerbsa.org
SUMMARY:Cub Scout Training Festival
DESCRIPTION:The location for this event has changed. Please see updated location below. \n  \nAll Cub Scout leaders are invited to join us for a fun day filled with: \n\nIn-person position-specific training and youth protection training (YPT)\nWorkshops on additional program topics.\nLeader guides for sale\, registration materials\, and other resources to save you a trip to the council office or the Scout store.\nOutdoor cooking demos and a delicious lunch.\nFun activities for your Cub-age youth.\nA chance to meet fellow leaders and get resources to start the new year off strong!\n\nDownload a schedule of sessions. Drop in whenever you can! We are offering the most popular sessions multiple times. \nLunch is $5.00; the training is free.
URL:https://www.mayflowerbsa.org/legacyevent/cub-scout-training-festival-2018-10-27/
LOCATION:United Church of Christ\, 10 Bedford Street\, Abington\, MA\, 02351\, United States
CATEGORIES:All-Council,Training
ATTACH;FMTTYPE=image/png:https://www.mayflowerbsa.org/wp-content/uploads/Logo_CubScoutWhite.png
ORGANIZER;CN="Chris%20Lamie":MAILTO:Chris.lamie@gmail.com
GEO:42.1041687;-70.9492465
X-APPLE-STRUCTURED-LOCATION;VALUE=URI;X-ADDRESS=United Church of Christ 10 Bedford Street Abington MA 02351 United States;X-APPLE-RADIUS=500;X-TITLE=10 Bedford Street:geo:-70.9492465,42.1041687
END:VEVENT
END:VCALENDAR