BEGIN:VCALENDAR
VERSION:2.0
PRODID:-//Mayflower Council | BSA - ECPv5.3.2.1//NONSGML v1.0//EN
CALSCALE:GREGORIAN
METHOD:PUBLISH
X-WR-CALNAME:Mayflower Council | BSA
X-ORIGINAL-URL:https://www.mayflowerbsa.org
X-WR-CALDESC:Events for Mayflower Council | BSA
BEGIN:VTIMEZONE
TZID:America/New_York
BEGIN:DAYLIGHT
TZOFFSETFROM:-0500
TZOFFSETTO:-0400
TZNAME:EDT
DTSTART:20200308T070000
END:DAYLIGHT
BEGIN:STANDARD
TZOFFSETFROM:-0400
TZOFFSETTO:-0500
TZNAME:EST
DTSTART:20201101T060000
END:STANDARD
END:VTIMEZONE
BEGIN:VEVENT
DTSTART;TZID=America/New_York:20200229T090000
DTEND;TZID=America/New_York:20200229T120000
DTSTAMP:20260420T034448
CREATED:20200203T142421Z
LAST-MODIFIED:20200204T213150Z
UID:23675-1582966800-1582977600@www.mayflowerbsa.org
SUMMARY:Den Chief Training
DESCRIPTION:This course is designed for any Scouts BSA or Venturer who is currently serving as a Den Chief or interested in becoming a Den Chief. It will cover: \n\nThe roles and responsibilities of a Den Chief\nTips for working with Cub Scouts\nGames\, songs\, and other fun activities that you can bring back to your den\n\nThis fun in-person training course offers a great chance to meet fellow Den Chiefs\, share ideas\, and “learn by doing.” Den Leaders are also welcome to sit in and learn how a Den Chief can help your den. \nThe course fee covers training supplies\, handouts\, light refreshments\, and two patches (the “Trained” patch and the “Den Chief” position patch) for each scout. For an additional $6\, you can also choose to buy the BSA Den Chief Handbook. This option will save you a trip to the Scout Store and save a bit of money off of the regular retail price. \nPlease wear your field (a.k.a. “Class A”) uniform. Pre-registration is required so we can make sure we have enough materials for everyone. \nRegistration ends on February 27
URL:https://www.mayflowerbsa.org/legacyevent/den-chief-training-13/
LOCATION:St. John’s Episcopal Church – Duxbury\, 410 Washington Street\, Duxbury\, MA\, 02331\, United States
CATEGORIES:All-Council,Training
ATTACH;FMTTYPE=image/png:https://www.mayflowerbsa.org/wp-content/uploads/NYLT-1.png
ORGANIZER;CN="Matt%20Martel":MAILTO:mgmartel@statestreet.com
GEO:42.0385462;-70.6717746
X-APPLE-STRUCTURED-LOCATION;VALUE=URI;X-ADDRESS=St. John’s Episcopal Church – Duxbury 410 Washington Street Duxbury MA 02331 United States;X-APPLE-RADIUS=500;X-TITLE=410 Washington Street:geo:-70.6717746,42.0385462
END:VEVENT
END:VCALENDAR