BEGIN:VCALENDAR
VERSION:2.0
PRODID:-//Mayflower Council | BSA - ECPv5.3.2.1//NONSGML v1.0//EN
CALSCALE:GREGORIAN
METHOD:PUBLISH
X-WR-CALNAME:Mayflower Council | BSA
X-ORIGINAL-URL:https://www.mayflowerbsa.org
X-WR-CALDESC:Events for Mayflower Council | BSA
BEGIN:VTIMEZONE
TZID:America/New_York
BEGIN:DAYLIGHT
TZOFFSETFROM:-0500
TZOFFSETTO:-0400
TZNAME:EDT
DTSTART:20180311T070000
END:DAYLIGHT
BEGIN:STANDARD
TZOFFSETFROM:-0400
TZOFFSETTO:-0500
TZNAME:EST
DTSTART:20181104T060000
END:STANDARD
END:VTIMEZONE
BEGIN:VEVENT
DTSTART;TZID=America/New_York:20181027T083000
DTEND;TZID=America/New_York:20181027T123000
DTSTAMP:20260421T124332
CREATED:20180821T191500Z
LAST-MODIFIED:20181027T005105Z
UID:15082-1540629000-1540643400@www.mayflowerbsa.org
SUMMARY:Den Chief Training
DESCRIPTION:The Location for this event has changed. Please see updated location information below. \n  \nThis course is designed for any Boy Scout or Venturer who is currently serving as a Den Chief or interested in becoming a Den Chief. It will cover: \n  \n\nThe roles and responsibilities of a Den Chief\nTips for working with Cub Scouts\nGames\, songs\, and other fun activities that you can bring back to your den\n\n  \nThis fun in-person training course offers a great chance to meet fellow Den Chiefs\, share ideas\, and “learn by doing.” Den Leaders are also welcome to sit in and learn how a Den Chief can help your den. \n  \nThe course fee covers training supplies\, handouts\, light refreshments\, and two patches (the “Trained” patch and the “Den Chief” position patch) for each scout. For an additional $6\, you can also choose to buy the BSA Den Chief Handbook. This option will save you a trip to the Scout Store and save a bit of money off of the regular retail price. \nAdditional $5.00 if you wish to stay for lunch with the Cub Leader training festival. \n  \nPlease wear your field (a.k.a. “Class A”) uniform. Pre-registration is required so we can make sure we have enough materials for everyone. \n 
URL:https://www.mayflowerbsa.org/legacyevent/den-chief-training-2-2018-10-13-2018-10-27/
LOCATION:United Church of Christ\, 10 Bedford Street\, Abington\, MA\, 02351\, United States
CATEGORIES:All-Council,Training
ATTACH;FMTTYPE=image/png:https://www.mayflowerbsa.org/wp-content/uploads/NYLT-1.png
ORGANIZER;CN="Ruth%20Mackie":MAILTO:rthmck.rm@gmail.com
GEO:42.1041687;-70.9492465
X-APPLE-STRUCTURED-LOCATION;VALUE=URI;X-ADDRESS=United Church of Christ 10 Bedford Street Abington MA 02351 United States;X-APPLE-RADIUS=500;X-TITLE=10 Bedford Street:geo:-70.9492465,42.1041687
END:VEVENT
END:VCALENDAR