BEGIN:VCALENDAR
VERSION:2.0
PRODID:-//Mayflower Council | BSA - ECPv5.3.2.1//NONSGML v1.0//EN
CALSCALE:GREGORIAN
METHOD:PUBLISH
X-WR-CALNAME:Mayflower Council | BSA
X-ORIGINAL-URL:https://www.mayflowerbsa.org
X-WR-CALDESC:Events for Mayflower Council | BSA
BEGIN:VTIMEZONE
TZID:America/New_York
BEGIN:DAYLIGHT
TZOFFSETFROM:-0500
TZOFFSETTO:-0400
TZNAME:EDT
DTSTART:20190310T070000
END:DAYLIGHT
BEGIN:STANDARD
TZOFFSETFROM:-0400
TZOFFSETTO:-0500
TZNAME:EST
DTSTART:20191103T060000
END:STANDARD
END:VTIMEZONE
BEGIN:VEVENT
DTSTART;TZID=America/New_York:20190606T180000
DTEND;TZID=America/New_York:20190606T210000
DTSTAMP:20260423T062559
CREATED:20190129T171458Z
LAST-MODIFIED:20190321T224606Z
UID:18795-1559844000-1559854800@www.mayflowerbsa.org
SUMMARY:Eagle Scout Recognition Dinner - 2019
DESCRIPTION:Come celebrate Mayflower Council’s Class of 2018 Eagles Scouts! \nThis event is an opportunity to recognize all of our 2018 Eagle Scout’s achievement along with 330 other fellow Eagles.  Parents\, family & friends are welcome to attend. \nDress for the evening is business dress or BSA Scout Uniform. \nRegistration Deadline – May 24\, 2019. \n  \nOther: \nSponsor A Scout\, $50.00 \nAd’s can be purchased for $35.00 \nLimited Edition Eagle Scout – Class of 2018 Back Patch can be purchased for $10.00 \n 
URL:https://www.mayflowerbsa.org/legacyevent/eagledinner2019/
LOCATION:Lake Pearl\, 299 Creek Street\, Wrentham\, MA\, 02093\, United States
CATEGORIES:All-Council
ATTACH;FMTTYPE=image/jpeg:https://www.mayflowerbsa.org/wp-content/uploads/eagle2.jpg
ORGANIZER;CN="Jim%20Corcoran":MAILTO:jim.corcoran@scouting.org
GEO:42.065013;-71.3452332
X-APPLE-STRUCTURED-LOCATION;VALUE=URI;X-ADDRESS=Lake Pearl 299 Creek Street Wrentham MA 02093 United States;X-APPLE-RADIUS=500;X-TITLE=299 Creek Street:geo:-71.3452332,42.065013
END:VEVENT
END:VCALENDAR