BEGIN:VCALENDAR
VERSION:2.0
PRODID:-//Mayflower Council | BSA - ECPv5.3.2.1//NONSGML v1.0//EN
CALSCALE:GREGORIAN
METHOD:PUBLISH
X-WR-CALNAME:Mayflower Council | BSA
X-ORIGINAL-URL:https://www.mayflowerbsa.org
X-WR-CALDESC:Events for Mayflower Council | BSA
BEGIN:VTIMEZONE
TZID:America/New_York
BEGIN:DAYLIGHT
TZOFFSETFROM:-0500
TZOFFSETTO:-0400
TZNAME:EDT
DTSTART:20200308T070000
END:DAYLIGHT
BEGIN:STANDARD
TZOFFSETFROM:-0400
TZOFFSETTO:-0500
TZNAME:EST
DTSTART:20201101T060000
END:STANDARD
END:VTIMEZONE
BEGIN:VEVENT
DTSTART;TZID=America/New_York:20200318T190000
DTEND;TZID=America/New_York:20200318T210000
DTSTAMP:20260419T192042
CREATED:20190426T162938Z
LAST-MODIFIED:20200313T201243Z
UID:20948-1584558000-1584565200@www.mayflowerbsa.org
SUMMARY:Executive Committee
DESCRIPTION:In an abundance of caution\, we will be holding the Executive Committee meeting vertually. Further information and directions on how to participate will be communicated shortly.\n\n.
URL:https://www.mayflowerbsa.org/legacyevent/executive-committee-2/
CATEGORIES:All-Council
ATTACH;FMTTYPE=image/jpeg:https://www.mayflowerbsa.org/wp-content/uploads/newcouncillogo.jpg
END:VEVENT
END:VCALENDAR