BEGIN:VCALENDAR
VERSION:2.0
PRODID:-//Mayflower Council | BSA - ECPv5.3.2.1//NONSGML v1.0//EN
CALSCALE:GREGORIAN
METHOD:PUBLISH
X-WR-CALNAME:Mayflower Council | BSA
X-ORIGINAL-URL:https://www.mayflowerbsa.org
X-WR-CALDESC:Events for Mayflower Council | BSA
BEGIN:VTIMEZONE
TZID:America/New_York
BEGIN:DAYLIGHT
TZOFFSETFROM:-0500
TZOFFSETTO:-0400
TZNAME:EDT
DTSTART:20200308T070000
END:DAYLIGHT
BEGIN:STANDARD
TZOFFSETFROM:-0400
TZOFFSETTO:-0500
TZNAME:EST
DTSTART:20201101T060000
END:STANDARD
END:VTIMEZONE
BEGIN:VEVENT
DTSTART;VALUE=DATE:20200414
DTEND;VALUE=DATE:20200415
DTSTAMP:20260421T225251
CREATED:20190326T153041Z
LAST-MODIFIED:20190326T153041Z
UID:20439-1586822400-1586908799@www.mayflowerbsa.org
SUMMARY:Guru Nanak's Birthday\, Sikh; Khalsa Day\, Sikh
DESCRIPTION:Religious Holiday – please do not schedule Scouting events on this day.
URL:https://www.mayflowerbsa.org/legacyevent/guru-nanaks-birthday-sikh-khalsa-day-sikh/
CATEGORIES:All-Council
ATTACH;FMTTYPE=image/png:https://www.mayflowerbsa.org/wp-content/uploads/scouting-logo.png
END:VEVENT
END:VCALENDAR