BEGIN:VCALENDAR
VERSION:2.0
PRODID:-//Mayflower Council | BSA - ECPv5.3.2.1//NONSGML v1.0//EN
CALSCALE:GREGORIAN
METHOD:PUBLISH
X-WR-CALNAME:Mayflower Council | BSA
X-ORIGINAL-URL:https://www.mayflowerbsa.org
X-WR-CALDESC:Events for Mayflower Council | BSA
BEGIN:VTIMEZONE
TZID:America/New_York
BEGIN:DAYLIGHT
TZOFFSETFROM:-0500
TZOFFSETTO:-0400
TZNAME:EDT
DTSTART:20200308T070000
END:DAYLIGHT
BEGIN:STANDARD
TZOFFSETFROM:-0400
TZOFFSETTO:-0500
TZNAME:EST
DTSTART:20201101T060000
END:STANDARD
END:VTIMEZONE
BEGIN:VEVENT
DTSTART;TZID=America/New_York:20200901T190000
DTEND;TZID=America/New_York:20200901T200000
DTSTAMP:20260424T014247
CREATED:20200820T202029Z
LAST-MODIFIED:20200910T193505Z
UID:27297-1598986800-1598990400@www.mayflowerbsa.org
SUMMARY:Headwaters District Commissioners Mtg 2020
DESCRIPTION:In an abundance of caution\, this meeting will be held virtually. The Headwaters District Commissioner will send out a reminder with a link to the meeting.\n.\n  \nIf you have not received a link to the virtual meeting\, or you want to get in touch with the Headwaters Key 3\, please email Headwaters@mayflowerbsa.org
URL:https://www.mayflowerbsa.org/legacyevent/headwaters-district-commissioners-mtng-2020/2020-09-01/
CATEGORIES:Headwaters District
ATTACH;FMTTYPE=image/jpeg:https://www.mayflowerbsa.org/wp-content/uploads/placeholderimage5.jpg
ORGANIZER;CN="Tim%20Howe":MAILTO:headwaters@mayflowerbsa.org
END:VEVENT
END:VCALENDAR