BEGIN:VCALENDAR
VERSION:2.0
PRODID:-//Mayflower Council | BSA - ECPv5.3.2.1//NONSGML v1.0//EN
CALSCALE:GREGORIAN
METHOD:PUBLISH
X-WR-CALNAME:Mayflower Council | BSA
X-ORIGINAL-URL:https://www.mayflowerbsa.org
X-WR-CALDESC:Events for Mayflower Council | BSA
BEGIN:VTIMEZONE
TZID:America/New_York
BEGIN:DAYLIGHT
TZOFFSETFROM:-0500
TZOFFSETTO:-0400
TZNAME:EDT
DTSTART:20200308T070000
END:DAYLIGHT
BEGIN:STANDARD
TZOFFSETFROM:-0400
TZOFFSETTO:-0500
TZNAME:EST
DTSTART:20201101T060000
END:STANDARD
END:VTIMEZONE
BEGIN:VEVENT
DTSTART;TZID=America/New_York:20200908T190000
DTEND;TZID=America/New_York:20200908T200000
DTSTAMP:20260423T182152
CREATED:20200820T194342Z
LAST-MODIFIED:20200820T201720Z
UID:27312-1599591600-1599595200@www.mayflowerbsa.org
SUMMARY:Headwaters District Committee 2020
DESCRIPTION:In an abundance of caution\, this meeting will be held virtually. Further information from your district and directions on how to participate will be communicated shortly.\n.\nHeadwaters District Committee meets on the 2nd Tuesday of each month from September thru May.
URL:https://www.mayflowerbsa.org/legacyevent/headwaters-district-committee-2020/2020-09-08/
CATEGORIES:Headwaters District
ATTACH;FMTTYPE=image/jpeg:https://www.mayflowerbsa.org/wp-content/uploads/placeholderimage5.jpg
END:VEVENT
END:VCALENDAR