BEGIN:VCALENDAR
VERSION:2.0
PRODID:-//Mayflower Council | BSA - ECPv5.3.2.1//NONSGML v1.0//EN
CALSCALE:GREGORIAN
METHOD:PUBLISH
X-WR-CALNAME:Mayflower Council | BSA
X-ORIGINAL-URL:https://www.mayflowerbsa.org
X-WR-CALDESC:Events for Mayflower Council | BSA
BEGIN:VTIMEZONE
TZID:America/New_York
BEGIN:DAYLIGHT
TZOFFSETFROM:-0500
TZOFFSETTO:-0400
TZNAME:EDT
DTSTART:20200308T070000
END:DAYLIGHT
BEGIN:STANDARD
TZOFFSETFROM:-0400
TZOFFSETTO:-0500
TZNAME:EST
DTSTART:20201101T060000
END:STANDARD
END:VTIMEZONE
BEGIN:VEVENT
DTSTART;TZID=America/New_York:20200328T180000
DTEND;TZID=America/New_York:20200328T210000
DTSTAMP:20260420T192413
CREATED:20190326T144852Z
LAST-MODIFIED:20200313T173426Z
UID:20402-1585418400-1585429200@www.mayflowerbsa.org
SUMMARY:Headwaters District Dinner
DESCRIPTION:In an abundance of caution\, we will be canceling the Headwaters District Annual Recognition Dinner\, that is scheduled for March 28 because this event brings a large number of Scouters together. We will be issuing full refunds to everyone by the end of the month and have begun planning a bigger\, better district dinner for 2021.\n.\nJoin us as we salute the many Scouting volunteers of the Headwaters District. \nThe District Dinner is a night of fun and excitement for volunteers\, filled with recognition\, fellowship\, and inspiration. \nYou won’t want to miss this event as we recognize Scouters at the unit and district levels with the District Award of Merit\, Cubmaster of the Year Award\, Scoutmaster of the Year Award\, Sparkplug Award\, and many more. Upon receiving the nomination\, the District Key 3 will present the award at the District Dinner. \nOnce you fill out the nomination form\, we ask that you forward forms to awards@mayflowerbsa.org. \nDistrict Award of Merit Nomination\nDistrict Awards Nomination \nWho should attend – Unit leadership/ District volunteers. \nPlease register by March 21\, 2020.
URL:https://www.mayflowerbsa.org/legacyevent/headwaters-district-dinner-2/
LOCATION:St John the Evangelist Parish – Hopkinton\, 20 Church Street\, Hopkinton\, MA\, 01748\, United States
CATEGORIES:All-Council,Headwaters District
ATTACH;FMTTYPE=image/jpeg:https://www.mayflowerbsa.org/wp-content/uploads/IMG_1500.jpg
ORGANIZER;CN="Stephen%20Lavoie":MAILTO:lavoiestephen1@gmail.com
GEO:42.2267813;-71.5197683
X-APPLE-STRUCTURED-LOCATION;VALUE=URI;X-ADDRESS=St John the Evangelist Parish – Hopkinton 20 Church Street Hopkinton MA 01748 United States;X-APPLE-RADIUS=500;X-TITLE=20 Church Street:geo:-71.5197683,42.2267813
END:VEVENT
END:VCALENDAR