BEGIN:VCALENDAR
VERSION:2.0
PRODID:-//Mayflower Council | BSA - ECPv5.3.2.1//NONSGML v1.0//EN
CALSCALE:GREGORIAN
METHOD:PUBLISH
X-WR-CALNAME:Mayflower Council | BSA
X-ORIGINAL-URL:https://www.mayflowerbsa.org
X-WR-CALDESC:Events for Mayflower Council | BSA
BEGIN:VTIMEZONE
TZID:America/New_York
BEGIN:DAYLIGHT
TZOFFSETFROM:-0500
TZOFFSETTO:-0400
TZNAME:EDT
DTSTART:20180311T070000
END:DAYLIGHT
BEGIN:STANDARD
TZOFFSETFROM:-0400
TZOFFSETTO:-0500
TZNAME:EST
DTSTART:20181104T060000
END:STANDARD
END:VTIMEZONE
BEGIN:VEVENT
DTSTART;TZID=America/New_York:20180918T190000
DTEND;TZID=America/New_York:20180918T210000
DTSTAMP:20260422T023639
CREATED:20180821T204000Z
LAST-MODIFIED:20190319T204641Z
UID:15138-1537297200-1537304400@www.mayflowerbsa.org
SUMMARY:Headwaters District Eagle Board
DESCRIPTION:
URL:https://www.mayflowerbsa.org/legacyevent/headwaters-district-eagle-board/2018-09-18/
LOCATION:Franklin United Methodist Church\, 82 West Central Street\, Franklin\, MA\, 02038\, United States
CATEGORIES:All-Council,Headwaters District
ATTACH;FMTTYPE=image/jpeg:https://www.mayflowerbsa.org/wp-content/uploads/eaglepalms.jpg
GEO:42.0828186;-71.4006445
X-APPLE-STRUCTURED-LOCATION;VALUE=URI;X-ADDRESS=Franklin United Methodist Church 82 West Central Street Franklin MA 02038 United States;X-APPLE-RADIUS=500;X-TITLE=82 West Central Street:geo:-71.4006445,42.0828186
END:VEVENT
END:VCALENDAR