BEGIN:VCALENDAR
VERSION:2.0
PRODID:-//Mayflower Council | BSA - ECPv5.3.2.1//NONSGML v1.0//EN
CALSCALE:GREGORIAN
METHOD:PUBLISH
X-WR-CALNAME:Mayflower Council | BSA
X-ORIGINAL-URL:https://www.mayflowerbsa.org
X-WR-CALDESC:Events for Mayflower Council | BSA
BEGIN:VTIMEZONE
TZID:America/New_York
BEGIN:DAYLIGHT
TZOFFSETFROM:-0500
TZOFFSETTO:-0400
TZNAME:EDT
DTSTART:20180311T070000
END:DAYLIGHT
BEGIN:STANDARD
TZOFFSETFROM:-0400
TZOFFSETTO:-0500
TZNAME:EST
DTSTART:20181104T060000
END:STANDARD
END:VTIMEZONE
BEGIN:VEVENT
DTSTART;TZID=America/New_York:20181101T190000
DTEND;TZID=America/New_York:20181101T203000
DTSTAMP:20260421T214753
CREATED:20180925T115725Z
LAST-MODIFIED:20181030T151608Z
UID:16611-1541098800-1541104200@www.mayflowerbsa.org
SUMMARY:Headwaters District Roundtable
DESCRIPTION:** LOCATION CHANGE FOR THIS ROUND TABLE ** \nMilford High School Cafeteria \n  \nWelcome to the Headwaters District Roundtable.  This will be a monthly meeting of peers for discussion and exchange of views and ideas.  Your District Executive will be there to answer any questions you may have and provide you with important information on upcoming events. \nFollow the signs for Administration Offices and Parking behind the Milford Fire Department.  Entrance is on the back side of the building. \nThese meeting will be held the first Thursday of every month beginning in September thru June unless otherwise noted and rescheduled.
URL:https://www.mayflowerbsa.org/legacyevent/headwaters-district-roundtable-2/
LOCATION:Milford High School\, 31 W Fountain St\, Milford\, MA\, 01757\, United States
CATEGORIES:Headwaters District
ATTACH;FMTTYPE=image/jpeg:https://www.mayflowerbsa.org/wp-content/uploads/placeholderimage2.jpg
GEO:42.1483732;-71.5343183
X-APPLE-STRUCTURED-LOCATION;VALUE=URI;X-ADDRESS=Milford High School 31 W Fountain St Milford MA 01757 United States;X-APPLE-RADIUS=500;X-TITLE=31 W Fountain St:geo:-71.5343183,42.1483732
END:VEVENT
END:VCALENDAR