BEGIN:VCALENDAR
VERSION:2.0
PRODID:-//Mayflower Council | BSA - ECPv5.3.2.1//NONSGML v1.0//EN
CALSCALE:GREGORIAN
METHOD:PUBLISH
X-WR-CALNAME:Mayflower Council | BSA
X-ORIGINAL-URL:https://www.mayflowerbsa.org
X-WR-CALDESC:Events for Mayflower Council | BSA
BEGIN:VTIMEZONE
TZID:America/New_York
BEGIN:DAYLIGHT
TZOFFSETFROM:-0500
TZOFFSETTO:-0400
TZNAME:EDT
DTSTART:20200308T070000
END:DAYLIGHT
BEGIN:STANDARD
TZOFFSETFROM:-0400
TZOFFSETTO:-0500
TZNAME:EST
DTSTART:20201101T060000
END:STANDARD
END:VTIMEZONE
BEGIN:VEVENT
DTSTART;TZID=America/New_York:20200206T190000
DTEND;TZID=America/New_York:20200206T203000
DTSTAMP:20260419T140552
CREATED:20190318T151724Z
LAST-MODIFIED:20200306T180033Z
UID:19508-1581015600-1581021000@www.mayflowerbsa.org
SUMMARY:Headwaters District Roundtable
DESCRIPTION:Welcome to the Headwaters District Roundtable.  This will be a monthly meeting of peers for discussion and exchange of views and ideas.  Your District Executive will be there to answer any questions you may have and provide you with important information on upcoming events. \nThese meeting will be held the first Thursday of every month beginning in September thru May unless otherwise noted and rescheduled. \nLocation:  Cafeteria – doors to the Cafeteria are near the back of the building next to the gym and the parking lots. \nHeadwaters District Roundtable Flyers
URL:https://www.mayflowerbsa.org/legacyevent/headwaters-district-roundtable-2020-02-06/2020-02-06/
LOCATION:Milford High School\, 31 W Fountain St\, Milford\, MA\, 01757\, United States
CATEGORIES:All-Council,Headwaters District
ATTACH;FMTTYPE=image/jpeg:https://www.mayflowerbsa.org/wp-content/uploads/med_roundtable-inline.jpg
GEO:42.1483732;-71.5343183
X-APPLE-STRUCTURED-LOCATION;VALUE=URI;X-ADDRESS=Milford High School 31 W Fountain St Milford MA 01757 United States;X-APPLE-RADIUS=500;X-TITLE=31 W Fountain St:geo:-71.5343183,42.1483732
END:VEVENT
END:VCALENDAR