BEGIN:VCALENDAR
VERSION:2.0
PRODID:-//Mayflower Council | BSA - ECPv5.3.2.1//NONSGML v1.0//EN
CALSCALE:GREGORIAN
METHOD:PUBLISH
X-WR-CALNAME:Mayflower Council | BSA
X-ORIGINAL-URL:https://www.mayflowerbsa.org
X-WR-CALDESC:Events for Mayflower Council | BSA
BEGIN:VTIMEZONE
TZID:America/New_York
BEGIN:DAYLIGHT
TZOFFSETFROM:-0500
TZOFFSETTO:-0400
TZNAME:EDT
DTSTART:20200308T070000
END:DAYLIGHT
BEGIN:STANDARD
TZOFFSETFROM:-0400
TZOFFSETTO:-0500
TZNAME:EST
DTSTART:20201101T060000
END:STANDARD
END:VTIMEZONE
BEGIN:VEVENT
DTSTART;TZID=America/New_York:20200903T183000
DTEND;TZID=America/New_York:20200903T200000
DTSTAMP:20260424T000537
CREATED:20200820T202438Z
LAST-MODIFIED:20200820T202440Z
UID:27304-1599157800-1599163200@www.mayflowerbsa.org
SUMMARY:Headwaters Roundtables 2020
DESCRIPTION:In an abundance of caution\, this meeting will be held virtually.\n.\nWelcome to the Headwaters District Roundtable.  This will be a monthly meeting of peers for discussion and exchange of views and ideas. Your District Executive will be there to answer any questions you may have and provide you with important information on upcoming events. \nThese meeting will be held the first Thursday of every month beginning in September thru May unless otherwise noted and rescheduled. \nNote: We will be sending links to the virtual meeting to Unit Committee Chairs\, Cubmasters\, Scoutmasters\, and Crew Advisors prior to the meeting.  If you wish to receive the link\, please get in touch with your Unit’s leader or ask the District Key 3 at the email Headwaters@mayflowerbsa.org \nHeadwaters District Roundtable Flyers
URL:https://www.mayflowerbsa.org/legacyevent/headwaters-roundtables-2020/2020-09-03/
CATEGORIES:Headwaters District
ATTACH;FMTTYPE=image/jpeg:https://www.mayflowerbsa.org/wp-content/uploads/med_roundtable-inline.jpg
END:VEVENT
END:VCALENDAR