BEGIN:VCALENDAR
VERSION:2.0
PRODID:-//Mayflower Council | BSA - ECPv5.3.2.1//NONSGML v1.0//EN
CALSCALE:GREGORIAN
METHOD:PUBLISH
X-WR-CALNAME:Mayflower Council | BSA
X-ORIGINAL-URL:https://www.mayflowerbsa.org
X-WR-CALDESC:Events for Mayflower Council | BSA
BEGIN:VTIMEZONE
TZID:America/New_York
BEGIN:DAYLIGHT
TZOFFSETFROM:-0500
TZOFFSETTO:-0400
TZNAME:EDT
DTSTART:20180311T070000
END:DAYLIGHT
BEGIN:STANDARD
TZOFFSETFROM:-0400
TZOFFSETTO:-0500
TZNAME:EST
DTSTART:20181104T060000
END:STANDARD
END:VTIMEZONE
BEGIN:VEVENT
DTSTART;TZID=America/New_York:20181210T190000
DTEND;TZID=America/New_York:20181210T210000
DTSTAMP:20260422T000104
CREATED:20181011T214835Z
LAST-MODIFIED:20181011T214835Z
UID:16941-1544468400-1544475600@www.mayflowerbsa.org
SUMMARY:IIC Family/Community Training
DESCRIPTION:By Invitation Only
URL:https://www.mayflowerbsa.org/legacyevent/iic-family-community-training/
CATEGORIES:All-Council
ATTACH;FMTTYPE=image/jpeg:https://www.mayflowerbsa.org/wp-content/uploads/placeholderimage5.jpg
END:VEVENT
END:VCALENDAR