BEGIN:VCALENDAR
VERSION:2.0
PRODID:-//Mayflower Council | BSA - ECPv5.3.2.1//NONSGML v1.0//EN
CALSCALE:GREGORIAN
METHOD:PUBLISH
X-WR-CALNAME:Mayflower Council | BSA
X-ORIGINAL-URL:https://www.mayflowerbsa.org
X-WR-CALDESC:Events for Mayflower Council | BSA
BEGIN:VTIMEZONE
TZID:America/New_York
BEGIN:DAYLIGHT
TZOFFSETFROM:-0500
TZOFFSETTO:-0400
TZNAME:EDT
DTSTART:20180311T070000
END:DAYLIGHT
BEGIN:STANDARD
TZOFFSETFROM:-0400
TZOFFSETTO:-0500
TZNAME:EST
DTSTART:20181104T060000
END:STANDARD
END:VTIMEZONE
BEGIN:VEVENT
DTSTART;TZID=America/New_York:20180928T190000
DTEND;TZID=America/New_York:20180929T213000
DTSTAMP:20260421T141409
CREATED:20180813T204350Z
LAST-MODIFIED:20180814T130856Z
UID:14851-1538161200-1538256600@www.mayflowerbsa.org
SUMMARY:Introduction to Outdoor Leader Skills (IOLS)
DESCRIPTION:Introduction to Outdoor Leader Skills (IOLS) is an overnight hands-on training for Boy Scout and Venturing leaders. It covers a variety of outdoor camping skills\, including cooking\, knots and lashings\, map and compass\, woods tools\, and more. Learn new skills\, reinforce old ones\, and build confidence to teach these skills to Scouts. For Scoutmasters and Assistant Scoutmasters\, this course is part of the requirements to earn the “Trained” patch. It is also part of the requirements for adult leaders of a Venturing Crew that runs an outdoor program.  \n  \nWe will have you on your way home after the closing campfire on Saturday night\, approximately 9:30 PM\, so you can spend Sunday with your family. \nOut of council registrants = $30.00 \nRegistration Deadline:  September 21\, 2018
URL:https://www.mayflowerbsa.org/legacyevent/introduction-to-outdoor-leader-skills-iols-2/
LOCATION:Wrentham Developmental Center\, 131 Emerald Street\, Wrentham\, MA\, 02093\, United States
CATEGORIES:All-Council,Training
ATTACH;FMTTYPE=image/jpeg:https://www.mayflowerbsa.org/wp-content/uploads/ac24_day1_0045.jpg
ORGANIZER;CN="Chris%20Lamie":MAILTO:Chris.lamie@gmail.com
GEO:42.0784005;-71.3215471
X-APPLE-STRUCTURED-LOCATION;VALUE=URI;X-ADDRESS=Wrentham Developmental Center 131 Emerald Street Wrentham MA 02093 United States;X-APPLE-RADIUS=500;X-TITLE=131 Emerald Street:geo:-71.3215471,42.0784005
END:VEVENT
END:VCALENDAR