BEGIN:VCALENDAR
VERSION:2.0
PRODID:-//Mayflower Council | BSA - ECPv5.3.2.1//NONSGML v1.0//EN
CALSCALE:GREGORIAN
METHOD:PUBLISH
X-WR-CALNAME:Mayflower Council | BSA
X-ORIGINAL-URL:https://www.mayflowerbsa.org
X-WR-CALDESC:Events for Mayflower Council | BSA
BEGIN:VTIMEZONE
TZID:America/New_York
BEGIN:DAYLIGHT
TZOFFSETFROM:-0500
TZOFFSETTO:-0400
TZNAME:EDT
DTSTART:20180311T070000
END:DAYLIGHT
BEGIN:STANDARD
TZOFFSETFROM:-0400
TZOFFSETTO:-0500
TZNAME:EST
DTSTART:20181104T060000
END:STANDARD
END:VTIMEZONE
BEGIN:VEVENT
DTSTART;TZID=America/New_York:20181103T080000
DTEND;TZID=America/New_York:20181104T143000
DTSTAMP:20260422T010009
CREATED:20180814T130736Z
LAST-MODIFIED:20181001T132234Z
UID:14855-1541232000-1541341800@www.mayflowerbsa.org
SUMMARY:Introduction to Outdoor Leader Skills (IOLS)
DESCRIPTION:Introduction to Outdoor Leader Skills (IOLS) is an overnight hands-on training for Boy Scout and Venturing leaders. It covers a variety of outdoor camping skills\, including cooking\, knots and lashings\, map and compass\, woods tools\, and more. Learn new skills\, reinforce old ones\, and build confidence to teach these skills to Scouts. For Scoutmasters and Assistant Scoutmasters\, this course is part of the requirements to earn the “Trained” patch. It is also part of the requirements for adult leaders of a Venturing Crew that runs an outdoor program.  \n  \nThis version of the course will start on Saturday morning. We will have you on your way home by noon on Sunday. \nOut of council registrants = $30.00 \nRegistration Deadline = November 2\, 2018
URL:https://www.mayflowerbsa.org/legacyevent/introduction-to-outdoor-leader-skills-iols-3/
LOCATION:Nobscot Scout Reservation\, 1 Nobscot Road\, Sudbury\, MA\, 01776\, United States
CATEGORIES:All-Council,Training
ATTACH;FMTTYPE=image/jpeg:https://www.mayflowerbsa.org/wp-content/uploads/ac24_day1_0045.jpg
ORGANIZER;CN="Ruth%20Mackie":MAILTO:rthmck.rm@gmail.com
GEO:42.3476721;-71.438526
X-APPLE-STRUCTURED-LOCATION;VALUE=URI;X-ADDRESS=Nobscot Scout Reservation 1 Nobscot Road Sudbury MA 01776 United States;X-APPLE-RADIUS=500;X-TITLE=1 Nobscot Road:geo:-71.438526,42.3476721
END:VEVENT
END:VCALENDAR