BEGIN:VCALENDAR
VERSION:2.0
PRODID:-//Mayflower Council | BSA - ECPv5.3.2.1//NONSGML v1.0//EN
CALSCALE:GREGORIAN
METHOD:PUBLISH
X-WR-CALNAME:Mayflower Council | BSA
X-ORIGINAL-URL:https://www.mayflowerbsa.org
X-WR-CALDESC:Events for Mayflower Council | BSA
BEGIN:VTIMEZONE
TZID:America/New_York
BEGIN:DAYLIGHT
TZOFFSETFROM:-0500
TZOFFSETTO:-0400
TZNAME:EDT
DTSTART:20200308T070000
END:DAYLIGHT
BEGIN:STANDARD
TZOFFSETFROM:-0400
TZOFFSETTO:-0500
TZNAME:EST
DTSTART:20201101T060000
END:STANDARD
END:VTIMEZONE
BEGIN:VEVENT
DTSTART;TZID=America/New_York:20200404T080000
DTEND;TZID=America/New_York:20200405T120000
DTSTAMP:20260421T072341
CREATED:20190326T150259Z
LAST-MODIFIED:20200323T204712Z
UID:20411-1585987200-1586088000@www.mayflowerbsa.org
SUMMARY:Introduction To Outdoor Leader Skills (IOLS)
DESCRIPTION:In an abundance of caution\, we will be canceling the Introduction to Outdoor Leadership Skills (IOLS)\, that is scheduled for April 4-5 because this event brings a large number of Scouters together. As might be expected with such a fluid set of circumstances\, we cannot give you a definitive date when or if the training will be rescheduled.  We will be issuing full refunds to everyone by the end of the month.\n\n.\nIntroduction to Outdoor Leader Skills (IOLS) is an overnight hands-on training for Scouts BSA and Venturing leaders. It covers a variety of outdoor camping skills\, including cooking\, knots and lashings\, map and compass\, woods tools\, and more. Learn new skills\, reinforce old ones\, and build confidence to teach these skills to Scouts. For Scoutmasters and Assistant Scoutmasters\, this course is part of the requirements to earn the “Trained” patch. It is also part of the requirements for adult leaders of a Venturing Crew that runs an outdoor program. \nThis version of the course will start on Saturday morning. We will have you on your way home by noon on Sunday. \n  \nRegistration Deadline:  March 30 \nNon-Mayflower Council Leaders Cost: $30.00
URL:https://www.mayflowerbsa.org/legacyevent/introduction-to-outdoor-leader-skills-iols-6/
LOCATION:Camp Squanto\, 200 Cutters Field Rd\, Plymouth\, Massachusetts\, 02360\, United States
CATEGORIES:All-Council,Training
ATTACH;FMTTYPE=image/jpeg:https://www.mayflowerbsa.org/wp-content/uploads/IMG-5666.jpg
ORGANIZER;CN="Rob%20Lyons":MAILTO:robs89wag@yahoo.com
GEO:41.8349495;-70.6383685
X-APPLE-STRUCTURED-LOCATION;VALUE=URI;X-ADDRESS=Camp Squanto 200 Cutters Field Rd Plymouth Massachusetts 02360 United States;X-APPLE-RADIUS=500;X-TITLE=200 Cutters Field Rd:geo:-70.6383685,41.8349495
END:VEVENT
END:VCALENDAR