BEGIN:VCALENDAR
VERSION:2.0
PRODID:-//Mayflower Council | BSA - ECPv5.3.2.1//NONSGML v1.0//EN
CALSCALE:GREGORIAN
METHOD:PUBLISH
X-WR-CALNAME:Mayflower Council | BSA
X-ORIGINAL-URL:https://www.mayflowerbsa.org
X-WR-CALDESC:Events for Mayflower Council | BSA
BEGIN:VTIMEZONE
TZID:America/New_York
BEGIN:DAYLIGHT
TZOFFSETFROM:-0500
TZOFFSETTO:-0400
TZNAME:EDT
DTSTART:20200308T070000
END:DAYLIGHT
BEGIN:STANDARD
TZOFFSETFROM:-0400
TZOFFSETTO:-0500
TZNAME:EST
DTSTART:20201101T060000
END:STANDARD
END:VTIMEZONE
BEGIN:VEVENT
DTSTART;TZID=America/New_York:20200330T183000
DTEND;TZID=America/New_York:20200330T203000
DTSTAMP:20260420T235503
CREATED:20200204T145816Z
LAST-MODIFIED:20200325T154342Z
UID:23709-1585593000-1585600200@www.mayflowerbsa.org
SUMMARY:Mayflower Summer Camp(s) Kickoff
DESCRIPTION:In an abundance of caution\, we will be holding the Summer Camp Kick-off meeting\, that is scheduled for March 30\, as a virtual meeting. See below for information and directions on how to participate..\n.\nAll units attending a Mayflower Council Summer Camp are invited to attend the annual kickoff meeting. We’ll cover: updates on Covid-19\, early bird and camp pricing\, arrival/departure\, flight to eagle scheduling changes\, health forms/medications\, leader forms\, Monday pre-camp meetings\, special camp programs\, Q&A\, and more! This will be an interactive meeting – you can ask questions during the presentation. Joining by computer is preferred as there will be a slideshow. Join by using the link or call-in number below. The meeting will be recorded and posted for those who cannot join. If you have questions in advance\, please submit them to squantodirector@mayflowerbsa.org. \n.\nVirtual Meeting: https://meet.google.com/nxa-xxwn-xcx \nPhone number: ‪+1 413-438-4090   PIN: ‪294 399 571# \nAs a reminder\, please adhere to recommendations given by the CDC for social distancing when joining this meeting. \n2020 Mayflower Council Camp Guide\n.\nGet Ready\, Get Set\, It’s Summer!\nMayflower Council invites you to the kick-off of the 2020 season!! \n  \nBelieve it or not summer is just a few short months away and we want to tell you about all of our fantastic summer opportunities available for our Scouts! We will also have updates for 2020 programs for Scouts BSA. \nWe offer camp programs that supplement your unit summer camp plans – Provisional camp for Scouts BSA wanting an additional camp experience\, Eagle Week\, National Youth Leadership Training\, and Venture Week. \nWe will be discussing Camp Squanto\, Camp Resolute\, Camp Resolute Adventure Day Camp and Camp Norse. \nJoin us on March 30 for the official kick-off to the 2020 summer season. \nDon’t miss the opportunity to learn about and start planning for summer camp! RSVP Now!
URL:https://www.mayflowerbsa.org/legacyevent/kickoff/
ATTACH;FMTTYPE=image/jpeg:https://www.mayflowerbsa.org/wp-content/uploads/Copy-of-36003090_10156656903332262_4605270011597029376_n.jpg
END:VEVENT
END:VCALENDAR