BEGIN:VCALENDAR
VERSION:2.0
PRODID:-//Mayflower Council | BSA - ECPv5.3.2.1//NONSGML v1.0//EN
CALSCALE:GREGORIAN
METHOD:PUBLISH
X-WR-CALNAME:Mayflower Council | BSA
X-ORIGINAL-URL:https://www.mayflowerbsa.org
X-WR-CALDESC:Events for Mayflower Council | BSA
BEGIN:VTIMEZONE
TZID:America/New_York
BEGIN:DAYLIGHT
TZOFFSETFROM:-0500
TZOFFSETTO:-0400
TZNAME:EDT
DTSTART:20180311T070000
END:DAYLIGHT
BEGIN:STANDARD
TZOFFSETFROM:-0400
TZOFFSETTO:-0500
TZNAME:EST
DTSTART:20181104T060000
END:STANDARD
END:VTIMEZONE
BEGIN:VEVENT
DTSTART;TZID=America/New_York:20181101T190000
DTEND;TZID=America/New_York:20181101T210000
DTSTAMP:20260421T202605
CREATED:20180205T123856Z
LAST-MODIFIED:20180927T161923Z
UID:13017-1541098800-1541106000@www.mayflowerbsa.org
SUMMARY:Marketing Committee Meeting
DESCRIPTION:
URL:https://www.mayflowerbsa.org/legacyevent/marketing-committee-meeting-2018-11-01/
LOCATION:Nobscot Scout Reservation\, 1 Nobscot Road\, Sudbury\, MA\, 01776\, United States
CATEGORIES:All-Council
ATTACH;FMTTYPE=image/jpeg:https://www.mayflowerbsa.org/wp-content/uploads/placeholderimage5.jpg
ORGANIZER;CN="Sean%20McNair":MAILTO:skmcnair@me.com
GEO:42.3476721;-71.438526
X-APPLE-STRUCTURED-LOCATION;VALUE=URI;X-ADDRESS=Nobscot Scout Reservation 1 Nobscot Road Sudbury MA 01776 United States;X-APPLE-RADIUS=500;X-TITLE=1 Nobscot Road:geo:-71.438526,42.3476721
END:VEVENT
END:VCALENDAR