BEGIN:VCALENDAR
VERSION:2.0
PRODID:-//Mayflower Council | BSA - ECPv5.3.2.1//NONSGML v1.0//EN
CALSCALE:GREGORIAN
METHOD:PUBLISH
X-WR-CALNAME:Mayflower Council | BSA
X-ORIGINAL-URL:https://www.mayflowerbsa.org
X-WR-CALDESC:Events for Mayflower Council | BSA
BEGIN:VTIMEZONE
TZID:America/New_York
BEGIN:DAYLIGHT
TZOFFSETFROM:-0500
TZOFFSETTO:-0400
TZNAME:EDT
DTSTART:20190310T070000
END:DAYLIGHT
BEGIN:STANDARD
TZOFFSETFROM:-0400
TZOFFSETTO:-0500
TZNAME:EST
DTSTART:20191103T060000
END:STANDARD
END:VTIMEZONE
BEGIN:VEVENT
DTSTART;TZID=America/New_York:20190926T193000
DTEND;TZID=America/New_York:20190926T210000
DTSTAMP:20260421T213725
CREATED:20180911T221309Z
LAST-MODIFIED:20190821T181702Z
UID:16534-1569526200-1569531600@www.mayflowerbsa.org
SUMMARY:Metacomet District Eagle Board
DESCRIPTION:
URL:https://www.mayflowerbsa.org/legacyevent/metacomet-district-eagle-board-2-2019-09-19/2019-09-26/
LOCATION:St. Mary’s Parish\, 205 Washington Street\, East Walpole\, MA\, 02032\, United States
CATEGORIES:All-Council,Metacomet District
ATTACH;FMTTYPE=image/jpeg:https://www.mayflowerbsa.org/wp-content/uploads/EagleScout_4K.jpg
ORGANIZER;CN="Joyce%20Jordan":MAILTO:Jamier1110@verizon.net
GEO:42.1601062;-71.218092
X-APPLE-STRUCTURED-LOCATION;VALUE=URI;X-ADDRESS=St. Mary’s Parish 205 Washington Street East Walpole MA 02032 United States;X-APPLE-RADIUS=500;X-TITLE=205 Washington Street:geo:-71.218092,42.1601062
END:VEVENT
END:VCALENDAR