BEGIN:VCALENDAR
VERSION:2.0
PRODID:-//Mayflower Council | BSA - ECPv5.3.2.1//NONSGML v1.0//EN
CALSCALE:GREGORIAN
METHOD:PUBLISH
X-WR-CALNAME:Mayflower Council | BSA
X-ORIGINAL-URL:https://www.mayflowerbsa.org
X-WR-CALDESC:Events for Mayflower Council | BSA
BEGIN:VTIMEZONE
TZID:America/New_York
BEGIN:DAYLIGHT
TZOFFSETFROM:-0500
TZOFFSETTO:-0400
TZNAME:EDT
DTSTART:20200308T070000
END:DAYLIGHT
BEGIN:STANDARD
TZOFFSETFROM:-0400
TZOFFSETTO:-0500
TZNAME:EST
DTSTART:20201101T060000
END:STANDARD
END:VTIMEZONE
BEGIN:VEVENT
DTSTART;TZID=America/New_York:20200924T180000
DTEND;TZID=America/New_York:20200924T190000
DTSTAMP:20260423T075337
CREATED:20200908T153722Z
LAST-MODIFIED:20200908T153722Z
UID:27659-1600970400-1600974000@www.mayflowerbsa.org
SUMMARY:Metacomet District Eagle Board of Review
DESCRIPTION:This meeting will be held virtually.
URL:https://www.mayflowerbsa.org/legacyevent/metacomet-district-eagle-board-of-review/2020-09-24/
CATEGORIES:Metacomet District
ATTACH;FMTTYPE=image/jpeg:https://www.mayflowerbsa.org/wp-content/uploads/eagle2.jpg
ORGANIZER;CN="Joyce%20Jordan":MAILTO:Jamier1110@verizon.net
END:VEVENT
END:VCALENDAR