BEGIN:VCALENDAR
VERSION:2.0
PRODID:-//Mayflower Council | BSA - ECPv5.3.2.1//NONSGML v1.0//EN
CALSCALE:GREGORIAN
METHOD:PUBLISH
X-WR-CALNAME:Mayflower Council | BSA
X-ORIGINAL-URL:https://www.mayflowerbsa.org
X-WR-CALDESC:Events for Mayflower Council | BSA
BEGIN:VTIMEZONE
TZID:America/New_York
BEGIN:DAYLIGHT
TZOFFSETFROM:-0500
TZOFFSETTO:-0400
TZNAME:EDT
DTSTART:20200308T070000
END:DAYLIGHT
BEGIN:STANDARD
TZOFFSETFROM:-0400
TZOFFSETTO:-0500
TZNAME:EST
DTSTART:20201101T060000
END:STANDARD
END:VTIMEZONE
BEGIN:VEVENT
DTSTART;TZID=America/New_York:20200310T190000
DTEND;TZID=America/New_York:20200310T203000
DTSTAMP:20260420T000320
CREATED:20180802T164429Z
LAST-MODIFIED:20200113T175551Z
UID:21994-1583866800-1583872200@www.mayflowerbsa.org
SUMMARY:Metacomet District Roundtable
DESCRIPTION:Please note\, this months roundtable has been adjusted due to the election. \n  \nWelcome to the Metacomet District Roundtable.  This will be a monthly meeting of peers for discussion and exchange of views and ideas.  Your District Executive will be there to answer any questions you may have and provide you with important information on upcoming events. \nThese meeting will be held the first Tuesday of every month beginning in September thru May (unless otherwise noted). \n  \nGathering 7:00pm \nProgram starts promptly at 7:30 \n  \nMetacomet District Roundtable Flyers
URL:https://www.mayflowerbsa.org/legacyevent/metacomet-district-roundtable-2-2020-03-03/
LOCATION:The Center At Medfield\, 1 Ice House Road\, Medfield\, MA\, 02052\, United States
CATEGORIES:All-Council,Metacomet District,Roundtable
ATTACH;FMTTYPE=image/jpeg:https://www.mayflowerbsa.org/wp-content/uploads/med_roundtable-inline.jpg
ORGANIZER;CN="Greg%20Green":MAILTO:gsgreen128@verizon.net
GEO:42.2006985;-71.3257057
X-APPLE-STRUCTURED-LOCATION;VALUE=URI;X-ADDRESS=The Center At Medfield 1 Ice House Road Medfield MA 02052 United States;X-APPLE-RADIUS=500;X-TITLE=1 Ice House Road:geo:-71.3257057,42.2006985
END:VEVENT
END:VCALENDAR