BEGIN:VCALENDAR
VERSION:2.0
PRODID:-//Mayflower Council | BSA - ECPv5.3.2.1//NONSGML v1.0//EN
CALSCALE:GREGORIAN
METHOD:PUBLISH
X-WR-CALNAME:Mayflower Council | BSA
X-ORIGINAL-URL:https://www.mayflowerbsa.org
X-WR-CALDESC:Events for Mayflower Council | BSA
BEGIN:VTIMEZONE
TZID:America/New_York
BEGIN:DAYLIGHT
TZOFFSETFROM:-0500
TZOFFSETTO:-0400
TZNAME:EDT
DTSTART:20190310T070000
END:DAYLIGHT
BEGIN:STANDARD
TZOFFSETFROM:-0400
TZOFFSETTO:-0500
TZNAME:EST
DTSTART:20191103T060000
END:STANDARD
END:VTIMEZONE
BEGIN:VEVENT
DTSTART;TZID=America/New_York:20190903T190000
DTEND;TZID=America/New_York:20190903T203000
DTSTAMP:20260421T024904
CREATED:20180802T164429Z
LAST-MODIFIED:20200820T175100Z
UID:14823-1567537200-1567542600@www.mayflowerbsa.org
SUMMARY:Metacomet District Roundtable
DESCRIPTION:In an abundance of caution\, this meeting will be held virtually. Further information from your district and directions on how to participate will be communicated shortly.\n.\nWelcome to the Metacomet District Roundtable.  This will be a monthly meeting of peers for discussion and exchange of views and ideas.  Your District Executive will be there to answer any questions you may have and provide you with important information on upcoming events. \nThese meeting will be held the first Tuesday of every month beginning in September thru May (unless otherwise noted). \nGathering 7:00pm \nProgram starts promptly at 7:30 \nMetacomet District Roundtable Flyers
URL:https://www.mayflowerbsa.org/legacyevent/metacomet-district-roundtable-2/2019-09-03/
CATEGORIES:All-Council,Metacomet District,Roundtable
ATTACH;FMTTYPE=image/jpeg:https://www.mayflowerbsa.org/wp-content/uploads/med_roundtable-inline.jpg
ORGANIZER;CN="Greg%20Green":MAILTO:gsgreen128@verizon.net
END:VEVENT
END:VCALENDAR