BEGIN:VCALENDAR
VERSION:2.0
PRODID:-//Mayflower Council | BSA - ECPv5.3.2.1//NONSGML v1.0//EN
CALSCALE:GREGORIAN
METHOD:PUBLISH
X-WR-CALNAME:Mayflower Council | BSA
X-ORIGINAL-URL:https://www.mayflowerbsa.org
X-WR-CALDESC:Events for Mayflower Council | BSA
BEGIN:VTIMEZONE
TZID:America/New_York
BEGIN:DAYLIGHT
TZOFFSETFROM:-0500
TZOFFSETTO:-0400
TZNAME:EDT
DTSTART:20180311T070000
END:DAYLIGHT
BEGIN:STANDARD
TZOFFSETFROM:-0400
TZOFFSETTO:-0500
TZNAME:EST
DTSTART:20181104T060000
END:STANDARD
END:VTIMEZONE
BEGIN:VEVENT
DTSTART;TZID=America/New_York:20181002T190000
DTEND;TZID=America/New_York:20181002T203000
DTSTAMP:20260421T141308
CREATED:20180802T163043Z
LAST-MODIFIED:20181130T175105Z
UID:14813-1538506800-1538512200@www.mayflowerbsa.org
SUMMARY:Metacomet District Roundtable
DESCRIPTION:Welcome to the Metacomet District Roundtable.  This will be a monthly meeting of peers for discussion and exchange of views and ideas.  Your District Executive will be there to answer any questions you may have and provide you with important information on upcoming events. \nThese meeting will be held the first Tuesday of every month beginning in September thru June unless otherwise noted. \n  \nGathering 7:00pm \nProgram Starts promptly at 7:30 \n  \nMetacomet District Roundtable Flyers
URL:https://www.mayflowerbsa.org/legacyevent/metacomet-district-roundtable-2018-10-02/2018-10-02/
LOCATION:The Center At Medfield\, 1 Ice House Road\, Medfield\, MA\, 02052\, United States
CATEGORIES:All-Council,Metacomet District,Roundtable
ATTACH;FMTTYPE=image/jpeg:https://www.mayflowerbsa.org/wp-content/uploads/placeholderimage5.jpg
ORGANIZER;CN="Tom%20McClintock":MAILTO:tmcclint@bellatlantic.net
GEO:42.2006985;-71.3257057
X-APPLE-STRUCTURED-LOCATION;VALUE=URI;X-ADDRESS=The Center At Medfield 1 Ice House Road Medfield MA 02052 United States;X-APPLE-RADIUS=500;X-TITLE=1 Ice House Road:geo:-71.3257057,42.2006985
END:VEVENT
END:VCALENDAR