BEGIN:VCALENDAR
VERSION:2.0
PRODID:-//Mayflower Council | BSA - ECPv5.3.2.1//NONSGML v1.0//EN
CALSCALE:GREGORIAN
METHOD:PUBLISH
X-WR-CALNAME:Mayflower Council | BSA
X-ORIGINAL-URL:https://www.mayflowerbsa.org
X-WR-CALDESC:Events for Mayflower Council | BSA
BEGIN:VTIMEZONE
TZID:America/New_York
BEGIN:DAYLIGHT
TZOFFSETFROM:-0500
TZOFFSETTO:-0400
TZNAME:EDT
DTSTART:20190310T070000
END:DAYLIGHT
BEGIN:STANDARD
TZOFFSETFROM:-0400
TZOFFSETTO:-0500
TZNAME:EST
DTSTART:20191103T060000
END:STANDARD
END:VTIMEZONE
BEGIN:VEVENT
DTSTART;TZID=America/New_York:20190615T170000
DTEND;TZID=America/New_York:20190615T210000
DTSTAMP:20260422T115647
CREATED:20190516T155221Z
LAST-MODIFIED:20190516T160447Z
UID:21086-1560618000-1560632400@www.mayflowerbsa.org
SUMMARY:Monster Jam
DESCRIPTION:Scout Day!  Reserve your tickets today.\n  \nScouts\, their friends and family are invited to purchase tickets & Pit Passes at a discounted rate\, also with out Ticketmaster fees. If you have a group of 30 or more and would like to purchase a block of seats\, please email Meg at mblanchard@feldinc.com  \nTickets for scouts start at just $24.50\, include a special commemorative patch and allows access into the scout exclusive track walk to take place on the Gillette Stadium field before the show starts!   \nShow Day Information: \n\nParking is included in your ticket purchase and you will not need to show proof of purchase to enter the lot.\nExclusive track walk for Scouts BSA\, friends and family will take place later in the afternoon with a time TBD.\nPatch Pick Up will be during the track walk. Please be advised that patches will not be mailed out after the event. To obtain your patches\, you must either be present at the track walk or have a participant grab them for you.\nFor those who purchased Pit Party Passes: Pit Party will go from 2:30pm – 5:30pm. The pit party will be located within the parking lot\, closest to the venue. You won’t be able to miss it as its HUGE!\nDoors to Gillette Stadium will open at 5:00pm\nShow time is 7:00pm\nFor any information on the stadium\, please visit gillettestadium.com\nFor more show information\, please visit monsterjam.com
URL:https://www.mayflowerbsa.org/legacyevent/monster-jam/
LOCATION:Gillette Statium\, 1 Patriot Place\, Foxborough\, MA\, 02035\, United States
CATEGORIES:All-Council
ATTACH;FMTTYPE=image/jpeg:https://www.mayflowerbsa.org/wp-content/uploads/images.jpg
GEO:42.0925323;-71.2641271
X-APPLE-STRUCTURED-LOCATION;VALUE=URI;X-ADDRESS=Gillette Statium 1 Patriot Place Foxborough MA 02035 United States;X-APPLE-RADIUS=500;X-TITLE=1 Patriot Place:geo:-71.2641271,42.0925323
END:VEVENT
END:VCALENDAR