BEGIN:VCALENDAR
VERSION:2.0
PRODID:-//Mayflower Council | BSA - ECPv5.3.2.1//NONSGML v1.0//EN
CALSCALE:GREGORIAN
METHOD:PUBLISH
X-WR-CALNAME:Mayflower Council | BSA
X-ORIGINAL-URL:https://www.mayflowerbsa.org
X-WR-CALDESC:Events for Mayflower Council | BSA
BEGIN:VTIMEZONE
TZID:America/New_York
BEGIN:DAYLIGHT
TZOFFSETFROM:-0500
TZOFFSETTO:-0400
TZNAME:EDT
DTSTART:20200308T070000
END:DAYLIGHT
BEGIN:STANDARD
TZOFFSETFROM:-0400
TZOFFSETTO:-0500
TZNAME:EST
DTSTART:20201101T060000
END:STANDARD
END:VTIMEZONE
BEGIN:VEVENT
DTSTART;VALUE=DATE:20200313
DTEND;VALUE=DATE:20200315
DTSTAMP:20260419T204318
CREATED:20190709T180216Z
LAST-MODIFIED:20200313T174706Z
UID:21524-1584057600-1584230399@www.mayflowerbsa.org
SUMMARY:Museum of Science 2019-2020
DESCRIPTION:In an abundance of caution\, we will be canceling the Museum of Science Overnight\, that is scheduled for March 13-14 because this event brings a large number of Scouters together. We will be issuing full refunds to everyone by the end of the month.\n.\nEver wonder what happens to the Museum at night?  Click the following link to view all dates and to sign up for this fantastic event. \nDates and Registration
URL:https://www.mayflowerbsa.org/legacyevent/museum-of-science-2019-2020-2020-03-13/
LOCATION:Museum of Science\, 1 Science Park\, Boston\, MA\, 02114\, United States
CATEGORIES:All-Council
ATTACH;FMTTYPE=image/jpeg:https://www.mayflowerbsa.org/wp-content/uploads/scouts-2-700x396.jpg
ORGANIZER;CN="Lisa%20Olson":MAILTO:Lisa@mayflowerbsa.org
GEO:42.3679381;-71.0711102
X-APPLE-STRUCTURED-LOCATION;VALUE=URI;X-ADDRESS=Museum of Science 1 Science Park Boston MA 02114 United States;X-APPLE-RADIUS=500;X-TITLE=1 Science Park:geo:-71.0711102,42.3679381
END:VEVENT
END:VCALENDAR