BEGIN:VCALENDAR
VERSION:2.0
PRODID:-//Mayflower Council | BSA - ECPv5.3.2.1//NONSGML v1.0//EN
CALSCALE:GREGORIAN
METHOD:PUBLISH
X-WR-CALNAME:Mayflower Council | BSA
X-ORIGINAL-URL:https://www.mayflowerbsa.org
X-WR-CALDESC:Events for Mayflower Council | BSA
BEGIN:VTIMEZONE
TZID:America/New_York
BEGIN:DAYLIGHT
TZOFFSETFROM:-0500
TZOFFSETTO:-0400
TZNAME:EDT
DTSTART:20180311T070000
END:DAYLIGHT
BEGIN:STANDARD
TZOFFSETFROM:-0400
TZOFFSETTO:-0500
TZNAME:EST
DTSTART:20181104T060000
END:STANDARD
END:VTIMEZONE
BEGIN:VEVENT
DTSTART;TZID=America/New_York:20181117T170000
DTEND;TZID=America/New_York:20181118T110000
DTSTAMP:20260419T121135
CREATED:20180828T152723Z
LAST-MODIFIED:20190213T151056Z
UID:15654-1542474000-1542538800@www.mayflowerbsa.org
SUMMARY:Museum of Science
DESCRIPTION:Ever wonder what happens to the Museum at night?  Click the following link to view all dates and to sign up for this fantastic event. \n  \nDates and Registration\n 
URL:https://www.mayflowerbsa.org/legacyevent/museum-of-science/2018-11-17/
LOCATION:Museum of Science\, 1 Science Park\, Boston\, MA\, 02114\, United States
CATEGORIES:All-Council
ATTACH;FMTTYPE=image/jpeg:https://www.mayflowerbsa.org/wp-content/uploads/scouts-2-700x396.jpg
GEO:42.3679381;-71.0711102
X-APPLE-STRUCTURED-LOCATION;VALUE=URI;X-ADDRESS=Museum of Science 1 Science Park Boston MA 02114 United States;X-APPLE-RADIUS=500;X-TITLE=1 Science Park:geo:-71.0711102,42.3679381
END:VEVENT
END:VCALENDAR