BEGIN:VCALENDAR
VERSION:2.0
PRODID:-//Mayflower Council | BSA - ECPv5.3.2.1//NONSGML v1.0//EN
CALSCALE:GREGORIAN
METHOD:PUBLISH
X-WR-CALNAME:Mayflower Council | BSA
X-ORIGINAL-URL:https://www.mayflowerbsa.org
X-WR-CALDESC:Events for Mayflower Council | BSA
BEGIN:VTIMEZONE
TZID:America/New_York
BEGIN:DAYLIGHT
TZOFFSETFROM:-0500
TZOFFSETTO:-0400
TZNAME:EDT
DTSTART:20180311T070000
END:DAYLIGHT
BEGIN:STANDARD
TZOFFSETFROM:-0400
TZOFFSETTO:-0500
TZNAME:EST
DTSTART:20181104T060000
END:STANDARD
END:VTIMEZONE
BEGIN:VEVENT
DTSTART;TZID=America/New_York:20180608T170000
DTEND;TZID=America/New_York:20180610T170000
DTSTAMP:20260421T225204
CREATED:20180319T202345Z
LAST-MODIFIED:20180414T125125Z
UID:13500-1528477200-1528650000@www.mayflowerbsa.org
SUMMARY:OA New England Fellowship 2018
DESCRIPTION:Come join Tantamous Lodge at the New England Fellowship Conference.  Join Arrowmen from all across New England at the 2018 new England Fellowship!  The Section NE-1 leadership is looking forward to providing action packed activities\, intuitive training\, exciting shows\, and inter-lodge camaraderie. \n  \nRegistration deadline:  April 14\, 2018. \nMaxiumum Attendees is 70 so please register early. \n 
URL:https://www.mayflowerbsa.org/legacyevent/new-england-fellowship-camp-roosevelt-me/
LOCATION:Camp Roosevelt\, 45 Camp Roosevelt Rd\, Eddington\, ME\, 04428\, United States
CATEGORIES:All-Council,Tantamous Lodge
ATTACH;FMTTYPE=image/jpeg:https://www.mayflowerbsa.org/wp-content/uploads/oalodge.jpg
ORGANIZER;CN="Joshua%20Paulin":MAILTO:joshua.paulin@gmail.com
GEO:44.7714308;-68.5565881
X-APPLE-STRUCTURED-LOCATION;VALUE=URI;X-ADDRESS=Camp Roosevelt 45 Camp Roosevelt Rd Eddington ME 04428 United States;X-APPLE-RADIUS=500;X-TITLE=45 Camp Roosevelt Rd:geo:-68.5565881,44.7714308
END:VEVENT
END:VCALENDAR