BEGIN:VCALENDAR
VERSION:2.0
PRODID:-//Mayflower Council | BSA - ECPv5.3.2.1//NONSGML v1.0//EN
CALSCALE:GREGORIAN
METHOD:PUBLISH
X-WR-CALNAME:Mayflower Council | BSA
X-ORIGINAL-URL:https://www.mayflowerbsa.org
X-WR-CALDESC:Events for Mayflower Council | BSA
BEGIN:VTIMEZONE
TZID:America/New_York
BEGIN:DAYLIGHT
TZOFFSETFROM:-0500
TZOFFSETTO:-0400
TZNAME:EDT
DTSTART:20190310T070000
END:DAYLIGHT
BEGIN:STANDARD
TZOFFSETFROM:-0400
TZOFFSETTO:-0500
TZNAME:EST
DTSTART:20191103T060000
END:STANDARD
END:VTIMEZONE
BEGIN:VEVENT
DTSTART;TZID=America/New_York:20191005T080000
DTEND;TZID=America/New_York:20191005T170000
DTSTAMP:20260423T050647
CREATED:20190812T153919Z
LAST-MODIFIED:20190812T162602Z
UID:21822-1570262400-1570294800@www.mayflowerbsa.org
SUMMARY:Nobscot Alumni Association Workday
DESCRIPTION:In conjunction with the Tantamous Lodge Fellowship weekend\, the Nobscot Alumni Association invites you to be part of this workday. \nThe plan for the day will include a rework approach to the Andersen welcome center. \nStay for the day and join us for lunch\, provided by the OA Lodge.
URL:https://www.mayflowerbsa.org/legacyevent/nobscot-alumni-association-workday/
LOCATION:Nobscot Scout Reservation\, 1 Nobscot Road\, Sudbury\, MA\, 01776\, United States
CATEGORIES:All-Council,Nobscot Scout Reservation
ATTACH;FMTTYPE=image/jpeg:https://www.mayflowerbsa.org/wp-content/uploads/Nobscot-1.jpg
ORGANIZER;CN="Larry%20Bearfield":MAILTO:Larry@RedBearFam.com
GEO:42.3476721;-71.438526
X-APPLE-STRUCTURED-LOCATION;VALUE=URI;X-ADDRESS=Nobscot Scout Reservation 1 Nobscot Road Sudbury MA 01776 United States;X-APPLE-RADIUS=500;X-TITLE=1 Nobscot Road:geo:-71.438526,42.3476721
END:VEVENT
END:VCALENDAR