BEGIN:VCALENDAR
VERSION:2.0
PRODID:-//Mayflower Council | BSA - ECPv5.3.2.1//NONSGML v1.0//EN
CALSCALE:GREGORIAN
METHOD:PUBLISH
X-WR-CALNAME:Mayflower Council | BSA
X-ORIGINAL-URL:https://www.mayflowerbsa.org
X-WR-CALDESC:Events for Mayflower Council | BSA
BEGIN:VTIMEZONE
TZID:America/New_York
BEGIN:DAYLIGHT
TZOFFSETFROM:-0500
TZOFFSETTO:-0400
TZNAME:EDT
DTSTART:20200308T070000
END:DAYLIGHT
BEGIN:STANDARD
TZOFFSETFROM:-0400
TZOFFSETTO:-0500
TZNAME:EST
DTSTART:20201101T060000
END:STANDARD
END:VTIMEZONE
BEGIN:VEVENT
DTSTART;TZID=America/New_York:20201027T180000
DTEND;TZID=America/New_York:20201027T190000
DTSTAMP:20260423T121851
CREATED:20201026T125741Z
LAST-MODIFIED:20201026T125741Z
UID:28723-1603821600-1603825200@www.mayflowerbsa.org
SUMMARY:October Virtual Pack Meeting
DESCRIPTION:Once again we will stream live on the Mayflower Council’s Facebook and YouTube pages. At this month’s meeting we will have the latest updates on the Cub Scout program and a drop in with a behind the scenes tour of Fawn Pond Cranberry Harvesting\, at Camp Squanto\, Plymouth MA \nYour Content Goes HereOur Virtual Pack Meeting Will Be Live0000Days00Hrs00Min00SecJoin virtual pack meeting on facebookJoin virtual pack meeting on YouTube
URL:https://www.mayflowerbsa.org/legacyevent/october-virtual-pack-meeting/
CATEGORIES:All-Council
ATTACH;FMTTYPE=image/jpeg:https://www.mayflowerbsa.org/wp-content/uploads/Virtual-pack-meeting-Oct.jpg
END:VEVENT
END:VCALENDAR