BEGIN:VCALENDAR
VERSION:2.0
PRODID:-//Mayflower Council | BSA - ECPv5.3.2.1//NONSGML v1.0//EN
CALSCALE:GREGORIAN
METHOD:PUBLISH
X-WR-CALNAME:Mayflower Council | BSA
X-ORIGINAL-URL:https://www.mayflowerbsa.org
X-WR-CALDESC:Events for Mayflower Council | BSA
BEGIN:VTIMEZONE
TZID:America/New_York
BEGIN:DAYLIGHT
TZOFFSETFROM:-0500
TZOFFSETTO:-0400
TZNAME:EDT
DTSTART:20190310T070000
END:DAYLIGHT
BEGIN:STANDARD
TZOFFSETFROM:-0400
TZOFFSETTO:-0500
TZNAME:EST
DTSTART:20191103T060000
END:STANDARD
END:VTIMEZONE
BEGIN:VEVENT
DTSTART;TZID=America/New_York:20190619T193000
DTEND;TZID=America/New_York:20190619T210000
DTSTAMP:20260422T075303
CREATED:20181218T155316Z
LAST-MODIFIED:20190410T174509Z
UID:18015-1560972600-1560978000@www.mayflowerbsa.org
SUMMARY:Philmont 2020 Information Session
DESCRIPTION:Come and learn all about Mayflower Council’s Philmont Trek Expedition.  Philmont Scout Ranch is the BSA’s premier High Adventure Base.  It covers over 200 square miles of Sangre De Christo range of the Rocky Mountains in Northern New Mexico.  Scouts will hike at least 50 miles over the course of 12 days and will build skills\, self confidence\, and explore new levels of teamwork. \n  \nThis information session will be aimed at giving Scouts BSA and parents interested in the 2020 Philmont expedition the information they need to decide if joining the 2020 Philmonth Council Contingent is right for them.
URL:https://www.mayflowerbsa.org/legacyevent/philmont-2020-information-session-2-2019-06-20/
LOCATION:Easton Covenant Congregational Church\, 204 Center Street\, Easton\, MA\, 02356\, United States
CATEGORIES:All-Council
ATTACH;FMTTYPE=image/jpeg:https://www.mayflowerbsa.org/wp-content/uploads/images-1.jpg
ORGANIZER;CN="Pete%20Lane":MAILTO:pete.lane@comcast.net
GEO:42.0517016;-71.1002546
X-APPLE-STRUCTURED-LOCATION;VALUE=URI;X-ADDRESS=Easton Covenant Congregational Church 204 Center Street Easton MA 02356 United States;X-APPLE-RADIUS=500;X-TITLE=204 Center Street:geo:-71.1002546,42.0517016
END:VEVENT
END:VCALENDAR