BEGIN:VCALENDAR
VERSION:2.0
PRODID:-//Mayflower Council | BSA - ECPv5.3.2.1//NONSGML v1.0//EN
CALSCALE:GREGORIAN
METHOD:PUBLISH
X-WR-CALNAME:Mayflower Council | BSA
X-ORIGINAL-URL:https://www.mayflowerbsa.org
X-WR-CALDESC:Events for Mayflower Council | BSA
BEGIN:VTIMEZONE
TZID:America/Halifax
BEGIN:DAYLIGHT
TZOFFSETFROM:-0400
TZOFFSETTO:-0300
TZNAME:ADT
DTSTART:20180311T060000
END:DAYLIGHT
BEGIN:STANDARD
TZOFFSETFROM:-0300
TZOFFSETTO:-0400
TZNAME:AST
DTSTART:20181104T050000
END:STANDARD
END:VTIMEZONE
BEGIN:VEVENT
DTSTART;TZID=America/Halifax:20181117T080000
DTEND;TZID=America/Halifax:20181117T093000
DTSTAMP:20260419T213941
CREATED:20170807T154431Z
LAST-MODIFIED:20180912T132033Z
UID:7755-1542441600-1542447000@www.mayflowerbsa.org
SUMMARY:Popcorn Take Order Pick-up (TBD)
DESCRIPTION:Take Order Popcorn is here!  \n  \nUpon arrival to Cumberland Farms\, you will be asked for your unit number and town. We will put you in the que to get it in your vehicle as quickly as possible.  Please be sure you check your order.  You will be signing a document stating you have received all items. \nFor those units that sold OVER $10\,000 in popcorn in 2017 – you have priority pick-up.  This means\, once you have reviewed your popcorn order\, you will be placed in the front of the line to have it put into your vehicle. \n*** NOTE:  NO ONE under the age of 18 will be allowed in the warehouse. Anyone under the age of 18\, MUST stay in the vehicle.  *** 
URL:https://www.mayflowerbsa.org/legacyevent/popcorn-take-order-pick-up-southborough-ma/
LOCATION:Cumberland Farms\, 165 Flanders Road\, Westborough\, MA\, 010581\, United States
CATEGORIES:All-Council
ATTACH;FMTTYPE=image/jpeg:https://www.mayflowerbsa.org/wp-content/uploads/placeholderimage5.jpg
ORGANIZER;CN="Carlene%20Covino":MAILTO:carlene.covino@scouting.org
GEO:42.2709003;-71.5589876
X-APPLE-STRUCTURED-LOCATION;VALUE=URI;X-ADDRESS=Cumberland Farms 165 Flanders Road Westborough MA 010581 United States;X-APPLE-RADIUS=500;X-TITLE=165 Flanders Road:geo:-71.5589876,42.2709003
END:VEVENT
END:VCALENDAR