BEGIN:VCALENDAR
VERSION:2.0
PRODID:-//Mayflower Council | BSA - ECPv5.3.2.1//NONSGML v1.0//EN
CALSCALE:GREGORIAN
METHOD:PUBLISH
X-WR-CALNAME:Mayflower Council | BSA
X-ORIGINAL-URL:https://www.mayflowerbsa.org
X-WR-CALDESC:Events for Mayflower Council | BSA
BEGIN:VTIMEZONE
TZID:America/New_York
BEGIN:DAYLIGHT
TZOFFSETFROM:-0500
TZOFFSETTO:-0400
TZNAME:EDT
DTSTART:20180311T070000
END:DAYLIGHT
BEGIN:STANDARD
TZOFFSETFROM:-0400
TZOFFSETTO:-0500
TZNAME:EST
DTSTART:20181104T060000
END:STANDARD
END:VTIMEZONE
BEGIN:VEVENT
DTSTART;TZID=America/New_York:20181106T190000
DTEND;TZID=America/New_York:20181106T210000
DTSTAMP:20260420T123825
CREATED:20180820T140416Z
LAST-MODIFIED:20181002T185828Z
UID:14912-1541530800-1541538000@www.mayflowerbsa.org
SUMMARY:Post Road District Roundtable
DESCRIPTION:Welcome to the Post Road District Roundtable.  This will be a monthly meeting of peers for discussion and exchange of views and ideas.  Your District Executive will be there to answer any questions you may have and provide you with important information on upcoming events. \nThese meeting will be held the first Tuesday of every month beginning in September thru June. \n  \nLocation:  TBA
URL:https://www.mayflowerbsa.org/legacyevent/post-road-district-roundtable-2018-11-06/
LOCATION:Wellesley Community Center\, 219 Washington Street\, Wellesley\, MA\, 02481\, United States
CATEGORIES:All-Council,Post Road District,Roundtable
ATTACH;FMTTYPE=image/jpeg:https://www.mayflowerbsa.org/wp-content/uploads/placeholderimage2.jpg
ORGANIZER;CN="Denis%20Fleming":MAILTO:dpf414@gmail.com
GEO:42.3150272;-71.2710111
X-APPLE-STRUCTURED-LOCATION;VALUE=URI;X-ADDRESS=Wellesley Community Center 219 Washington Street Wellesley MA 02481 United States;X-APPLE-RADIUS=500;X-TITLE=219 Washington Street:geo:-71.2710111,42.3150272
END:VEVENT
END:VCALENDAR